Workbook
Name INSCRITOS: #REF!

Sheet RIVAS
C2: I LIGA CENTRO
C3: 1ª Jornada - Rivas
C4: 23 de febrero de 2019
D7: Nº | H7: Jornada 1- Rivas | J7: Jornada 2 | L7: Jornada 3 | N7: Jornada 4 | P7: Jornada 5
B8: Categoría | C8: Sexo | D8: Dorsal | E8: Nombre | F8: Apellidos | G8: Club | H8: Prueba 1 - Obstáculos | I8: Prueba 2 - 200m | J8: Prueba 1 | K8: Prueba 2 | L8: Prueba 1 | M8: Prueba 2 | N8: Prueba 1 | O8: Prueba 2 | P8: Prueba 1 | Q8: Prueba 2 | R8: PUNT. ADD. | S8: TOTAL | T8: Clasificación | W8: Comentarios: Dorsal A15 no aparece como que corrió en la prueba 1
B9: MINI OPEN | C9: FEMENINO | D9: A1 | E9: MAIALEN | F9: BENITO UGARTE | G9: CDP CONSIGUELOTOLEDO | H9: 8 | I9: 9 | S9: =SUM(H9:R9) -> 17 | T9: 1
B10: MINI OPEN | C10: FEMENINO | D10: A14 | E10: JIMENA | F10: PASCUA RODRÍGUEZ | G10: CLUB PATÍN PARLA | H10: 10 | I10: 6 | S10: =SUM(H10:R10) -> 16 | T10: 2
B11: MINI OPEN | C11: FEMENINO | D11: A8 | E11: VIRGINIA | F11: BARRAGAN MENDEZ | G11: CLUB PATÍN PARLA | H11: 7 | I11: 8 | S11: =SUM(H11:R11) -> 15 | T11: 3
B12: MINI OPEN | C12: FEMENINO | D12: A13 | E12: AROA | F12: ORTIZ GARCÍA | G12: CLUB PATÍN PARLA | H12: 9 | I12: 5 | S12: =SUM(H12:R12) -> 14 | T12: 4
B13: MINI OPEN | C13: FEMENINO | D13: A17 | E13: CLAUDIA | F13: SENDIN PETRONILA | G13: CLUB PATÍN PARLA | H13: 6 | I13: 7 | S13: =SUM(H13:R13) -> 13 | T13: 5
B14: MINI OPEN | C14: FEMENINO | D14: A10 | E14: CARLA | F14: GARCÍA ÁLVAREZ | G14: CLUB PATÍN PARLA | H14: 1 | I14: 10 | S14: =SUM(H14:R14) -> 11 | T14: 6
B15: MINI OPEN | C15: FEMENINO | D15: A19 | E15: OLIVIA | F15: SIMON MONTERO | G15: CLUB PATÍN PARLA | H15: 4 | I15: 3 | S15: =SUM(H15:R15) -> 7 | T15: 8
B16: MINI OPEN | C16: FEMENINO | D16: A4 | E16: MATILDE | F16: GÓMEZ NIETO | G16: CLUB PATÍN DE ORO | H16: 5 | I16: 4 | S16: =SUM(H16:R16) -> 9 | T16: 7
B17: MINI OPEN | C17: FEMENINO | D17: A16 | E17: NEREA | F17: RODRIGUEZ RUBIO | G17: CLUB PATÍN PARLA | H17: 2 | I17: 2 | S17: =SUM(H17:R17) -> 4 | T17: 8
B18: MINI OPEN | C18: FEMENINO | D18: A2 | E18: LUCIA | F18: ARROYO REDONDO | G18: CLUB PATÍN DE ORO | H18: 3 | I18: 1 | S18: =SUM(H18:R18) -> 4 | T18: 9
B19: MINI OPEN | C19: FEMENINO | D19: A5 | E19: ARIADNA | F19: RIVERA NEIRA | G19: CLUB PATÍN DE ORO | H19: 1 | I19: 1 | S19: =SUM(H19:R19) -> 2 | T19: 10
B20: MINI OPEN | C20: FEMENINO | D20: A3 | E20: EMMA | F20: GOMEZ CASADO | G20: CLUB PATÍN DE ORO | H20: 1 | I20: 1 | S20: =SUM(H20:R20) -> 2 | T20: 10
... B26: MINI OPEN | C26: FEMENINO | D26: A20 | E26: SILVIA | F26: DIEZ MUÑOZ | G26: PATÍN VELOCIDAD RIVAS | H26: 1 | I26: 1 | S26: =SUM(H26:R26) -> 2 | T26: 10
B27: MINI OPEN | C27: FEMENINO | D27: A15 | E27: CLAUDIA | F27: PASTOR QUISADA | G27: CLUB PATÍN PARLA | I27: 1 | S27: =SUM(H27:R27) -> 1 | T27: 19
B28: MINI OPEN | C28: FEMENINO | D28: A11 | E28: AYLA | F28: MACIAS ROJO | G28: CLUB PATÍN PARLA
D31: Nº | H31: Jornada 1- Rivas | J31: Jornada 2 | L31: Jornada 3 | N31: Jornada 4 | P31: Jornada 5
B32: Categoría | C32: Sexo | D32: Dorsal | E32: Nombre | F32: Apellidos | G32: Club | H32: Prueba 1 - Obstáculos | I32: Prueba 2 - 200m | J32: Prueba 1 | K32: Prueba 2 | L32: Prueba 1 | M32: Prueba 2 | N32: Prueba 1 | O32: Prueba 2 | P32: Prueba 1 | Q32: Prueba 2 | R32: PUNT. ADD. | S32: TOTAL | T32: Clasificación
B33: MINI OPEN | C33: MASCULINO | D33: A26 | E33: MARIO | F33: CANILLAS DIAZ | G33: CLUB PATÍN PARLA | H33: 10 | I33: 8 | S33: =SUM(H33:R33) -> 18 | T33: 1
B34: MINI OPEN | C34: MASCULINO | D34: A22 | E34: MARIO | F34: CALZADILLA CANO | G34: CLUB PATÍN DE ORO | H34: 7 | I34: 10 | S34: =SUM(H34:R34) -> 17 | T34: 2
B35: MINI OPEN | C35: MASCULINO | D35: A27 | E35: NICOLÁS | F35: GARCÍA AMAYA | G35: CLUB PATÍN PARLA | H35: 8 | I35: 9 | S35: =SUM(H35:R35) -> 17 | T35: 3
B36: MINI OPEN | C36: MASCULINO | D36: A21 | E36: VÍCTOR | F36: GALVÁN GARCÍA | G36: CDP CONSIGUELOTOLEDO | H36: 9 | I36: 7 | S36: =SUM(H36:R36) -> 16 | T36: 4
B37: MINI OPEN | C37: MASCULINO | D37: A25 | E37: LEO | F37: RODRÍGUEZ ÁLVAREZ | G37: CLUB PATÍN DE ORO | H37: 6 | I37: 6 | S37: =SUM(H37:R37) -> 12 | T37: 5
B38: MINI OPEN | C38: MASCULINO | D38: A23 | E38: LUCAS | F38: MARINA GARCÍA | G38: CLUB PATÍN DE ORO
B39: MINI OPEN | C39: MASCULINO | D39: A24 | E39: GERONIMO | F39: REY ROJAS | G39: CLUB PATÍN DE ORO
B40: MINI OPEN | C40: MASCULINO | D40: A28 | E40: JAIME | F40: MONTE LEAL | G40: CLUB PATÍN PARLA
D45: Nº | H45: Jornada 1- Rivas | J45: Jornada 2 | L45: Jornada 3 | N45: Jornada 4 | P45: Jornada 5
B46: Categoría | C46: Sexo | D46: Dorsal | E46: Nombre | F46: Apellidos | G46: Club | H46: Prueba 1 - Obstáculos | I46: Prueba 2 - 300m | J46: Prueba 1 | K46: Prueba 2 | L46: Prueba 1 | M46: Prueba 2 | N46: Prueba 1 | O46: Prueba 2 | P46: Prueba 1 | Q46: Prueba 2 | R46: PUNT. ADD. | S46: TOTAL | T46: Clasificación | W46: Comentarios: En la segunda carrerase ha seguido el orden de los apuntes de Yolanda. Hay dudas sobre las niñas que están con fondo en amarillo sobre si participaron o no, ya que no hay constancia en las actas manuales.
B47: PREBENJAMIN OPEN | C47: FEMENINO | D47: A46 | E47: VEGA | F47: GONZÁLEZ IZQUIERDO | G47: CLUB PATÍN PARLA | H47: 7 | I47: 10 | S47: =SUM(H47:R47) -> 17 | T47: 1
B48: PREBENJAMIN OPEN | C48: FEMENINO | D48: A30 | E48: LLANOS | F48: FERNANDEZ GARCIA | G48: CLUB PATÍN DE ORO | H48: 10 | I48: 7 | S48: =SUM(H48:R48) -> 17 | T48: 2
B49: PREBENJAMIN OPEN | C49: FEMENINO | D49: A53 | E49: LEIRE | F49: TORRIJOS OTERO | G49: CLUB PATÍN PARLA | H49: 6 | I49: 9 | S49: =SUM(H49:R49) -> 15 | T49: 3
B50: PREBENJAMIN OPEN | C50: FEMENINO | D50: A58 | E50: LAURA | F50: ARGÜELLO KUSZEWSKA | G50: COLEGIO SAN JOSÉ | H50: 8 | I50: 6 | S50: =SUM(H50:R50) -> 14 | T50: 4
B51: PREBENJAMIN OPEN | C51: FEMENINO | D51: A55 | E51: VALERIA | F51: CARNERO GÓMEZ | G51: CMP ARGANDA DEL REY | H51: 9 | I51: 3 | S51: =SUM(H51:R51) -> 12 | T51: 5
B52: PREBENJAMIN OPEN | C52: FEMENINO | D52: A47 | E52: ISABEL | F52: MANZANARES LEAL | G52: CLUB PATÍN PARLA | H52: 1 | I52: 8 | S52: =SUM(H52:R52) -> 9 | T52: 6
B53: PREBENJAMIN OPEN | C53: FEMENINO | D53: A35 | E53: EMMA | F53: RODRÍGUEZ ÁLVAREZ | G53: CLUB PATÍN DE ORO | H53: 4 | I53: 5 | S53: =SUM(H53:R53) -> 9 | T53: 7
B54: PREBENJAMIN OPEN | C54: FEMENINO | D54: A54 | E54: DAPHNE | F54: ALMAGRO MARTÍN | G54: CMP ARGANDA DEL REY | H54: 5 | I54: 4 | S54: =SUM(H54:R54) -> 9 | T54: 8
B55: PREBENJAMIN OPEN | C55: FEMENINO | D55: A36 | E55: SARA | F55: VADILLO JUSTO | G55: CLUB PATÍN DE ORO | H55: 2 | I55: 2 | S55: =SUM(H55:R55) -> 4 | T55: 9
B56: PREBENJAMIN OPEN | C56: FEMENINO | D56: A52 | E56: AINARA | F56: ROMÁN LOGROSÁN | G56: CLUB PATÍN PARLA | H56: 3 | I56: 1 | S56: =SUM(H56:R56) -> 4 | T56: 10
B57: PREBENJAMIN OPEN | C57: FEMENINO | D57: A45 | E57: EVA | F57: GARCIA ZARZOSO | G57: CLUB PATÍN PARLA | H57: 1 | I57: 1 | S57: =SUM(H57:R57) -> 2 | T57: 11
B58: PREBENJAMIN OPEN | C58: FEMENINO | D58: A32 | E58: JULIA | F58: HERRERO FANJUL | G58: CLUB PATÍN DE ORO | H58: 1 | I58: 1 | S58: =SUM(H58:R58) -> 2 | T58: 11
B59: PREBENJAMIN OPEN | C59: FEMENINO | D59: 1 | E59: SARA | F59: FERNANDEZ PADILLA | G59: CLUB PATÍN DE ORO | H59: 1 | I59: 1 | S59: =SUM(H59:R59) -> 2 | T59: 11
B60: PREBENJAMIN OPEN | C60: FEMENINO | D60: A41 | E60: NEREA | F60: ESCUDERO BLÁZQUEZ | G60: CLUB PATÍN PARLA | H60: 1 | I60: 1 | S60: =SUM(H60:R60) -> 2 | T60: 11
B61: PREBENJAMIN OPEN | C61: FEMENINO | D61: A42 | E61: ARIADNA | F61: EZQUERRA LORIGADOS | G61: CLUB PATÍN PARLA | H61: 1 | I61: 1 | S61: =SUM(H61:R61) -> 2 | T61: 11
B62: PREBENJAMIN OPEN | C62: FEMENINO | D62: A40 | E62: ÁFRICA | F62: CABELLO OLIRENZA | G62: CLUB PATÍN PARLA | H62: 1 | I62: 1 | S62: =SUM(H62:R62) -> 2 | T62: 11
B63: PREBENJAMIN OPEN | C63: FEMENINO | D63: A44 | E63: NOA | F63: GARCIA DE LA VIUDA | G63: CLUB PATÍN PARLA | H63: 1 | I63: 1 | S63: =SUM(H63:R63) -> 2 | T63: 11
B64: PREBENJAMIN OPEN | C64: FEMENINO | D64: A51 | E64: JANA | F64: RÓDENAS ORDORICA | G64: CLUB PATÍN PARLA | H64: 1 | I64: 1 | S64: =SUM(H64:R64) -> 2 | T64: 11
B65: PREBENJAMIN OPEN | C65: FEMENINO | D65: A49 | E65: KEIRA | F65: ORTIZ PATRU | G65: CLUB PATÍN PARLA | H65: 1 | I65: 1 | S65: =SUM(H65:R65) -> 2 | T65: 11
B66: PREBENJAMIN OPEN | C66: FEMENINO | D66: A50 | E66: AROA | F66: PARRILLA GALÁN | G66: CLUB PATÍN PARLA | H66: 1 | I66: 1 | S66: =SUM(H66:R66) -> 2 | T66: 11
B67: PREBENJAMIN OPEN | C67: FEMENINO | D67: A38 | E67: SARA | F67: BERTOLO SANCHEZ | G67: CLUB PATÍN PARLA | H67: 1 | I67: 1 | S67: =SUM(H67:R67) -> 2 | T67: 11
B68: PREBENJAMIN OPEN | C68: FEMENINO | D68: A96 | E68: CARMEN | F68: CORRALES DE LA FUENTE | G68: PATÍN VELOCIDAD RIVAS | H68: 1 | I68: 1 | S68: =SUM(H68:R68) -> 2 | T68: 11
B69: PREBENJAMIN OPEN | C69: FEMENINO | D69: A59 | E69: LIDIA | F69: DIAZ-PACHE VIRSEDA | G69: COLEGIO SAN JOSÉ | H69: 1 | I69: 1 | S69: =SUM(H69:R69) -> 2 | T69: 11
B70: PREBENJAMIN OPEN | C70: FEMENINO | D70: A60 | E70: AMALIA | F70: MAMBLONA TEPENEU | G70: COLEGIO SAN JOSÉ | H70: 1 | I70: 1 | S70: =SUM(H70:R70) -> 2 | T70: 11
B71: PREBENJAMIN OPEN | C71: FEMENINO | D71: A61 | E71: NAOMI | F71: ROMAY ÁLVAREZ | G71: COLEGIO SAN JOSÉ | H71: 1 | I71: 1 | S71: =SUM(H71:R71) -> 2 | T71: 11
... B83: PREBENJAMIN OPEN | C83: FEMENINO | D83: A56 | E83: SOFÍA | F83: MARTIN MONTES | G83: CMP ARGANDA DEL REY | H83: 1 | I83: 1 | S83: =SUM(H83:R83) -> 2 | T83: 11
D94: Nº | H94: Jornada 1- Rivas | J94: Jornada 2 | L94: Jornada 3 | N94: Jornada 4 | P94: Jornada 5
B95: Categoría | C95: Sexo | D95: Dorsal | E95: Nombre | F95: Apellidos | G95: Club | H95: Prueba 1 - Obstáculos | I95: Prueba 2 - 300m | J95: Prueba 1 | K95: Prueba 2 | L95: Prueba 1 | M95: Prueba 2 | N95: Prueba 1 | O95: Prueba 2 | P95: Prueba 1 | Q95: Prueba 2 | R95: PUNT. ADD. | S95: TOTAL | T95: Clasificación | W95: Comentarios: Dorsales 69 71 72 y 76 no aparecen como que corrieron en la prueba 1
B96: PREBENJAMIN OPEN | C96: MASCULINO | D96: A67 | E96: FERNANDO | F96: GARCIA PINTUS | G96: CLUB PATÍN DE ORO | H96: 10 | I96: 8 | S96: =SUM(H96:R96) -> 18 | T96: 1
B97: PREBENJAMIN OPEN | C97: MASCULINO | D97: 3 | E97: PABLO | F97: GIRIGAN | G97: CMP ARGANDA DEL REY | H97: 7 | I97: 10 | S97: =SUM(H97:R97) -> 17 | T97: 2
B98: PREBENJAMIN OPEN | C98: MASCULINO | D98: 2 | E98: NICOLÁS | F98: GILABERT BUSQUET | G98: PATÍN VELOCIDAD RIVAS | H98: 5 | I98: 9 | S98: =SUM(H98:R98) -> 14 | T98: 3
B99: PREBENJAMIN OPEN | C99: MASCULINO | D99: A74 | E99: RAFAEL | F99: RODRIGUEZ DE PEDRO | G99: CMP ARGANDA DEL REY | H99: 8 | I99: 6 | S99: =SUM(H99:R99) -> 14 | T99: 4
B100: PREBENJAMIN OPEN | C100: MASCULINO | D100: A65 | E100: MATEO | F100: GALVÁN GARCÍA | G100: CDP CONSIGUELOTOLEDO | H100: 4 | I100: 7 | S100: =SUM(H100:R100) -> 11 | T100: 5
B101: PREBENJAMIN OPEN | C101: MASCULINO | D101: A68 | E101: MARCOS | F101: GOMEZ CASADO | G101: CLUB PATÍN DE ORO | H101: 9 | I101: 3 | S101: =SUM(H101:R101) -> 12 | T101: 6
B102: PREBENJAMIN OPEN | C102: MASCULINO | D102: A64 | E102: AARÓN | F102: DÍAZ-MECO GÓMEZ | G102: CDP CONSIGUELOTOLEDO | H102: 6 | I102: 4 | S102: =SUM(H102:R102) -> 10 | T102: 7
B103: PREBENJAMIN OPEN | C103: MASCULINO | D103: A73 | E103: MATIAS | F103: GARCÍA SAVANI | G103: CLUB PATÍN PARLA | H103: 4 | I103: 5 | S103: =SUM(H103:R103) -> 9 | T103: 8
B104: PREBENJAMIN OPEN | C104: MASCULINO | D104: A70 | E104: JORGE | F104: RAMOS MUÑOZ | G104: CLUB PATÍN DE ORO | H104: 3 | I104: 1 | S104: =SUM(H104:R104) -> 4 | T104: 9
B105: PREBENJAMIN OPEN | C105: MASCULINO | D105: A71 | E105: ADRIAN | F105: RIVERA NEIRA | G105: CLUB PATÍN DE ORO | I105: 2 | S105: =SUM(H105:R105) -> 2 | T105: 10
B106: PREBENJAMIN OPEN | C106: MASCULINO | D106: A69 | E106: DIEGO | F106: HERRERO FANJUL | G106: CLUB PATÍN DE ORO | I106: 1 | S106: =SUM(H106:R106) -> 1 | T106: 11
B107: PREBENJAMIN OPEN | C107: MASCULINO | D107: A72 | E107: MANUEL | F107: GARCÍA ANGELINA | G107: CLUB PATÍN PARLA | I107: 1 | S107: =SUM(H107:R107) -> 1 | T107: 11
B108: PREBENJAMIN OPEN | C108: MASCULINO | D108: A76 | E108: FRANCISCO | F108: RODRÍGUEZ POLEO | G108: COLEGIO SAN JOSÉ | I108: 1 | S108: =SUM(H108:R108) -> 1 | T108: 11
B109: PREBENJAMIN OPEN | C109: MASCULINO | D109: A75 | E109: GABRIELA | F109: NÚÑEZ LEMA | G109: COLEGIO SAN JOSÉ
B110: PREBENJAMIN OPEN | C110: MASCULINO | D110: A66 | E110: CHICHARRO | F110: BLANCO CUESTA | G110: CLUB PATÍN DE ORO
D115: Nº | H115: Jornada 1- Rivas | J115: Jornada 2 | L115: Jornada 3 | N115: Jornada 4 | P115: Jornada 5
B116: Categoría | C116: Sexo | D116: Dorsal | E116: Nombre | F116: Apellidos | G116: Club | H116: Prueba 1 - Obstáculos | I116: Prueba 2 - 2 vueltas (916m) | J116: Prueba 1 | K116: Prueba 2 | L116: Prueba 1 | M116: Prueba 2 | N116: Prueba 1 | O116: Prueba 2 | P116: Prueba 1 | Q116: Prueba 2 | R116: PUNT. ADD. | S116: TOTAL | T116: Clasificación | W116: Comentarios: La dorsal 12 no aparece en el acta manual en la segunda carrera. Se desvaneció y fue trasladada en ambulancia al hospital.
B117: BENJAMIN | C117: FEMENINO | D117: 6 | E117: EMMA | F117: CONSUEGRA FERNÁNDEZ | G117: CMP ARGANDA DEL REY | H117: 8 | I117: 10 | S117: =SUM(H117:R117) -> 18 | T117: 1
B118: BENJAMIN | C118: FEMENINO | D118: 9 | E118: EVA | F118: FERNÁNDEZ PADILLA | G118: CLUB PATÍN DE ORO | H118: 9 | I118: 8 | S118: =SUM(H118:R118) -> 17 | T118: 2
B119: BENJAMIN | C119: FEMENINO | D119: 8 | E119: CELIA | F119: CERISOLA BARRIOS | G119: CLUB PATÍN DE ORO | H119: 10 | I119: 7 | S119: =SUM(H119:R119) -> 17 | T119: 3
B120: BENJAMIN | C120: FEMENINO | D120: 4 | E120: PAULA | F120: ORDOÑEZ JIMENEZ | G120: CMP ARGANDA DEL REY | H120: 5 | I120: 9 | S120: =SUM(H120:R120) -> 14 | T120: 4
B121: BENJAMIN | C121: FEMENINO | D121: 10 | E121: ELENA | F121: DIAZ MARTIN | G121: CLUB PATÍN DE ORO | H121: 6 | I121: 6 | S121: =SUM(H121:R121) -> 12 | T121: 5
B122: BENJAMIN | C122: FEMENINO | D122: B96 | E122: ÁFRICA | F122: SÁNCHEZ BERRACO | G122: CDP CONSIGUELOTOLEDO | H122: 7 | I122: 1 | S122: =SUM(H122:R122) -> 8 | T122: 6
B123: BENJAMIN | C123: FEMENINO | D123: 7 | E123: CLAUDIA | F123: FERNÁNDEZ ROMERO | G123: CMP ARGANDA DEL REY | H123: 2 | I123: 5 | S123: =SUM(H123:R123) -> 7 | T123: 7
B124: BENJAMIN | C124: FEMENINO | D124: 11 | E124: ALICIA | F124: PALOMAR GARCIA | G124: PATÍN VELOCIDAD RIVAS | H124: 3 | I124: 4 | S124: =SUM(H124:R124) -> 7 | T124: 8
B125: BENJAMIN | C125: FEMENINO | D125: 5 | E125: CARLOTA | F125: SANTANA TRIGO | G125: CMP ARGANDA DEL REY | H125: 4 | I125: 3 | S125: =SUM(H125:R125) -> 7 | T125: 9
B126: BENJAMIN | C126: FEMENINO | D126: B99 | E126: IRENE | F126: ALVAREZ LANCHA | G126: CMP ARGANDA DEL REY | H126: 1 | I126: 2 | S126: =SUM(H126:R126) -> 3 | T126: 10
B127: BENJAMIN | C127: FEMENINO | D127: 12 | E127: ISTHAR | F127: BERMEJO SANTOS | G127: PATÍN VELOCIDAD RIVAS | H127: 1 | I127: 0 | S127: =SUM(H127:R127) -> 1 | T127: 11
B128: BENJAMIN | C128: FEMENINO | D128: B97 | E128: CLAUDIA | F128: GÓMEZ GARCÍA | G128: CMP ARGANDA DEL REY | S128: =SUM(H128:R128) -> 0
S129: =SUM(H129:R129) -> 0
S130: =SUM(H130:R130) -> 0
D133: Nº | H133: Jornada 1- Rivas | J133: Jornada 2 | L133: Jornada 3 | N133: Jornada 4 | P133: Jornada 5
B134: Categoría | C134: Sexo | D134: Dorsal | E134: Nombre | F134: Apellidos | G134: Club | H134: Prueba 1 - Obstáculos | I134: Prueba 2 - 2 vueltas (916m) | J134: Prueba 1 | K134: Prueba 2 | L134: Prueba 1 | M134: Prueba 2 | N134: Prueba 1 | O134: Prueba 2 | P134: Prueba 1 | Q134: Prueba 2 | R134: PUNT. ADD. | S134: TOTAL | T134: Clasificación | W134: Comentarios: En la jornada de Rivas se incluyó al dorsal 94 como benjamín en el acta manual y es alevín (2008) en el listado. Por fotos se ve cómo ha quedado realmente dentro de los alevines.
B135: BENJAMIN | C135: MASCULINO | D135: 13 | E135: UNAI | F135: FDEZ-IZAGUIRRE ALVAREZ | G135: CMP ARGANDA DEL REY | H135: 10 | I135: 10 | S135: =SUM(H135:R135) -> 20 | T135: 1
B136: BENJAMIN | C136: MASCULINO | D136: 15 | E136: RAUL | F136: JARDIM BARBA | G136: PATÍN VELOCIDAD RIVAS | H136: 7 | I136: 9 | S136: =SUM(H136:R136) -> 16 | T136: 2
B137: BENJAMIN | C137: MASCULINO | D137: 14 | E137: BRAIS | F137: PAREDES OUTERIÑO | G137: PATÍN VELOCIDAD RIVAS | H137: 8 | I137: 8 | S137: =SUM(H137:R137) -> 16 | T137: 3
B138: BENJAMIN | C138: MASCULINO | D138: B98 | E138: EDGAR | F138: DÍAZ-MECO GÓMEZ | G138: CDP CONSIGUELOTOLEDO | H138: 9 | I138: 7 | S138: =SUM(H138:R138) -> 16 | T138: 4
D143: Nº | H143: Jornada 1- Rivas | J143: Jornada 2 | L143: Jornada 3 | N143: Jornada 4 | P143: Jornada 5
B144: Categoría | C144: Sexo | D144: Dorsal | E144: Nombre | F144: Apellidos | G144: Club | H144: Prueba 1 - Obstáculos | I144: Prueba 2 - 1 vuelta (458m) | J144: Prueba 1 | K144: Prueba 2 | L144: Prueba 1 | M144: Prueba 2 | N144: Prueba 1 | O144: Prueba 2 | P144: Prueba 1 | Q144: Prueba 2 | R144: PUNT. ADD. | S144: TOTAL | T144: Clasificación | W144: Comentarios: En la clasificación de la primera prueba solamente están las finalistas
B145: BENJAMIN ESCUELA | C145: FEMENINO | D145: A95 | E145: GABRIELA | F145: HUERTAS SÁNCHEZ | G145: IN LINE MADRID | H145: 10 | I145: 10 | S145: =SUM(H145:R145) -> 20 | T145: 1
...

Sheet TOLEDO
C2: I LIGA CENTRO
C3: 2ª Jornada - Burguillos de Toledo (Toledo)
C4: 7 de abril de 2019
D7: Nº | H7: Jornada 2- Burguillos | J7: Jornada 2 | L7: Jornada 3 | N7: Jornada 4 | P7: Jornada 5
B8: Categoría | C8: Sexo | D8: Dorsal | E8: Nombre | F8: Apellidos | G8: Club | H8: P. 1 - 2 v. + chican | I8: TIEMPO | J8: Prueba 1 | K8: Prueba 2 | L8: Prueba 1 | M8: Prueba 2 | N8: Prueba 1 | O8: Prueba 2 | P8: Prueba 1 | Q8: Prueba 2 | R8: P.2 - 3 vueltas | S8: TIEMPO | T8: TOTAL | U8: Clasificación
B9: MINI OPEN | C9: FEMENINO | D9: A1 | E9: MAIALEN | F9: BENITO UGARTE | G9: CDP CONSIGUELOTOLEDO | H9: 10 | I9: 47624 | R9: 10 | S9: 1.06.383 | T9: =SUM(H9,R9) -> 20 | U9: 1
B10: MINI OPEN | C10: FEMENINO | D10: A10 | E10: CARLA | F10: GARCÍA ÁLVAREZ | G10: CLUB PATÍN PARLA | H10: 9 | I10: 49950 | R10: 8 | S10: 1.15.093 | T10: =SUM(H10,R10) -> 17 | U10: 2
B11: MINI OPEN | C11: FEMENINO | D11: A17 | E11: CLAUDIA | F11: SENDIN PETRONILA | G11: CLUB PATÍN PARLA | H11: 7 | I11: 52348 | R11: 9 | S11: 1.09.034 | T11: =SUM(H11,R11) -> 16 | U11: 3
B12: MINI OPEN | C12: FEMENINO | D12: A13 | E12: AROA | F12: ORTIZ GARCÍA | G12: CLUB PATÍN PARLA | H12: 6 | I12: 52747 | R12: 6 | S12: 1.15.671 | T12: =SUM(H12,R12) -> 12 | U12: 4
B13: MINI OPEN | C13: FEMENINO | D13: A18 | E13: OLIVIA | F13: SIMON MONTERO | G13: CLUB PATÍN PARLA | H13: 8 | I13: 51067 | R13: 1 | S13: 1.47.419 | T13: =SUM(H13,R13) -> 9 | U13: 5
B14: MINI OPEN | C14: FEMENINO | D14: A15 | E14: NEREA | F14: ESCUDERO ASENSIO | G14: CDP CONSIGUELOTOLEDO | H14: 3 | I14: 1.01.227 | R14: 4 | S14: 1.19.614 | T14: =SUM(H14,R14) -> 7 | U14: 6
B15: MINI OPEN | C15: FEMENINO | D15: A12 | E15: LEIRE | F15: MÉNDEZ SUAREZ | G15: CLUB PATÍN PARLA | H15: 5 | I15: 57303 | R15: 1 | S15: 1.27.721 | T15: =SUM(H15,R15) -> 6 | U15: 7
B16: MINI OPEN | C16: FEMENINO | D16: A6 | E16: LUCÍA | F16: ALMODÓVAR IZQUIERDO | G16: CLUB PATÍN PARLA | H16: 1 | I16: 1.01.897 | R16: 5 | S16: 1.19.342 | T16: =SUM(H16,R16) -> 6 | U16: 7
B17: MINI OPEN | C17: FEMENINO | D17: A5 | E17: MARIA | F17: SERENA CRESPO | G17: CLUB PATÍN PARLA | H17: 4 | I17: 59825 | R17: 1 | S17: 1.35.132 | T17: =SUM(H17,R17) -> 5 | U17: 9
B18: MINI OPEN | C18: FEMENINO | D18: A7 | E18: MARIA | F18: MARTIN GARCIA | G18: CLUB PATÍN PARLA | H18: 2 | I18: 1.01.706 | R18: 2 | S18: 1.25.950 | T18: =SUM(H18,R18) -> 4 | U18: 10
B19: MINI OPEN | C19: FEMENINO | D19: A11 | E19: AYLA | F19: MACIAS ROJO | G19: CLUB PATÍN PARLA | H19: 1 | I19: 1.02.552 | R19: 3 | S19: 1.25.544 | T19: =SUM(H19,R19) -> 4 | U19: 10
B20: MINI OPEN | C20: FEMENINO | D20: A9 | E20: SOPHIE | F20: ARELLANO GONZALEZ | G20: INDEPENDIENTE | H20: 1 | I20: 1.13.370 | R20: NP | T20: =SUM(H20,R20) -> 1 | U20: 12
B21: MINI OPEN | C21: FEMENINO | D21: A32 | E21: DANIELA | F21: SIENES SIENES | G21: CLUB PATÍN PARLA | H21: 1 | I21: 1.42.157 | R21: NP | T21: =SUM(H21,R21) -> 1 | U21: 12
D24: Nº | H24: Jornada 2- Burguillos | J24: Jornada 2 | L24: Jornada 3 | N24: Jornada 4 | P24: Jornada 5
B25: Categoría | C25: Sexo | D25: Dorsal | E25: Nombre | F25: Apellidos | G25: Club | H25: P. 1 - 2 v. + chican | I25: TIEMPO | J25: Prueba 1 | K25: Prueba 2 | L25: Prueba 1 | M25: Prueba 2 | N25: Prueba 1 | O25: Prueba 2 | P25: Prueba 1 | Q25: Prueba 2 | R25: P.2 - 3 vueltas | S25: TIEMPO | T25: TOTAL | U25: Clasificación
B26: MINI OPEN | C26: MASCULINO | D26: A21 | E26: VÍCTOR | F26: GALVÁN GARCÍA | G26: CDP CONSIGUELOTOLEDO | H26: 10 | I26: 49220 | R26: 10 | S26: 1.12.340 | T26: =SUM(H26,R26) -> 20 | U26: 1
B27: MINI OPEN | C27: MASCULINO | D27: A25 | E27: DAVID | F27: HERNANDEZ DIAZ | G27: CMP ARGANDA DEL REY | H27: 7 | I27: 1.06.428 | R27: 9 | S27: 1.43.171 | T27: =SUM(H27,R27) -> 16 | U27: 2
B28: MINI OPEN | C28: MASCULINO | D28: A27 | E28: NICOLÁS | F28: GARCÍA AMAYA | G28: CLUB PATÍN PARLA | H28: 9 | I28: 51903 | R28: DSQ | T28: =SUM(H28,R28) -> 9 | U28: 3
B29: MINI OPEN | C29: MASCULINO | D29: A53 | E29: MARIO | F29: CANILLAS | G29: CLUB PATÍN PARLA | H29: 8 | I29: 53546 | R29: DSQ | T29: =SUM(H29,R29) -> 8 | U29: 4
D32: Nº | H32: Jornada 2- Burguillos | J32: Jornada 2 | L32: Jornada 3 | N32: Jornada 4 | P32: Jornada 5
B33: Categoría | C33: Sexo | D33: Dorsal | E33: Nombre | F33: Apellidos | G33: Club | H33: P. 1 - 3 v. + chican | I33: TIEMPO | J33: Prueba 1 | K33: Prueba 2 | L33: Prueba 1 | M33: Prueba 2 | N33: Prueba 1 | O33: Prueba 2 | P33: Prueba 1 | Q33: Prueba 2 | R33: P.2 - 4 vueltas | S33: TIEMPO | T33: TOTAL | U33: Clasificación
B34: PREBENJAMIN OPEN | C34: FEMENINO | D34: A30 | E34: LLANOS | F34: FERNANDEZ GARCIA | G34: CLUB PATÍN DE ORO | H34: 10 | I34: 52909 | R34: 9 | S34: 1.06.613 | T34: =SUM(H34,R34) -> 19 | U34: 1
B35: PREBENJAMIN OPEN | C35: FEMENINO | D35: A35 | E35: SARA | F35: FERNANDEZ PADILLA | G35: CLUB PATÍN DE ORO | H35: 9 | I35: 58713 | R35: 8 | S35: 1.14.657 | T35: =SUM(H35,R35) -> 17 | U35: 2
B36: PREBENJAMIN OPEN | C36: FEMENINO | D36: A52 | E36: AINARA | F36: ROMÁN LOGROSÁN | G36: CLUB PATÍN PARLA | H36: 7 | I36: 1.01.415 | R36: 7 | S36: 1.15.071 | T36: =SUM(H36,R36) -> 14 | U36: 3
B37: PREBENJAMIN OPEN | C37: FEMENINO | D37: A55 | E37: PAULA | F37: GONZALEZ MANZANO | G37: CDP CONSIGUELOTOLEDO | H37: 5 | I37: 1.02.645 | R37: 5 | S37: 1.15.895 | T37: =SUM(H37,R37) -> 10 | U37: 4
B38: PREBENJAMIN OPEN | C38: FEMENINO | D38: A54 | E38: LUCIA | F38: TAMAYO ALONSO | G38: TALAVERA PATINA | H38: DSQ | R38: 10 | S38: 1.06.372 | T38: =SUM(H38,R38) -> 10 | U38: 4
B39: PREBENJAMIN OPEN | C39: FEMENINO | D39: A57 | E39: CARLOTA | F39: RODRIGUEZ LÓPEZ | G39: CMP ARGANDA DEL REY | H39: 8 | I39: 59471 | R39: 1 | S39: 1.21.114 | T39: =SUM(H39,R39) -> 9 | U39: 6
B40: PREBENJAMIN OPEN | C40: FEMENINO | D40: A58 | E40: LAURA | F40: ARGÜELLO KUSZEWSKA | G40: COLEGIO SAN JOSÉ | H40: 6 | I40: 1.01.665 | R40: 1 | S40: 1.21.509 | T40: =SUM(H40,R40) -> 7 | U40: 7
B41: PREBENJAMIN OPEN | C41: FEMENINO | D41: A50 | E41: AROA | F41: PARRILLA GALÁN | G41: CLUB PATÍN PARLA | H41: NP | R41: 6 | S41: 1.15.718 | T41: =SUM(H41,R41) -> 6 | U41: 8
B42: PREBENJAMIN OPEN | C42: FEMENINO | D42: A39 | E42: MARÍA | F42: BORDONA MEDINA | G42: CLUB PATÍN PARLA | H42: 4 | I42: 1.03.024 | R42: 1 | S42: 1.19.920 | T42: =SUM(H42,R42) -> 5 | U42: 9
B43: PREBENJAMIN OPEN | C43: FEMENINO | D43: A31 | E43: EVA | F43: FERNÁNDEZ OLEA | G43: CLUB PATÍN DE ORO | H43: 1 | I43: 1.09.794 | R43: 4 | S43: 1.16.432 | T43: =SUM(H43,R43) -> 5 | U43: 9
B44: PREBENJAMIN OPEN | C44: FEMENINO | D44: A51 | E44: JANA | F44: RÓDENAS ORDORICA | G44: CLUB PATÍN PARLA | H44: 3 | I44: 1.03.385 | R44: 1 | S44: 1.20.252 | T44: =SUM(H44,R44) -> 4 | U44: 11
B45: PREBENJAMIN OPEN | C45: FEMENINO | D45: A43 | E45: GABRIELA | F45: NUÑEZ LEMA | G45: COLEGIO SAN JOSÉ | H45: 2 | I45: 1.04.362 | R45: 2 | S45: 1.19.696 | T45: =SUM(H45,R45) -> 4 | U45: 11
B46: PREBENJAMIN OPEN | C46: FEMENINO | D46: A37 | E46: LUZ DIVINA | F46: ALVAREZ FLURIACHE | G46: CLUB PATÍN PARLA | H46: 1 | I46: 1.04.450 | R46: 3 | S46: 1.17.522 | T46: =SUM(H46,R46) -> 4 | U46: 11
B47: PREBENJAMIN OPEN | C47: FEMENINO | D47: A48 | E47: IRENE | F47: DIAZ-CARRALERO JIMENEZ | G47: CDP CONSIGUELOTOLEDO | H47: 1 | I47: 1.06.833 | R47: 1 | S47: 1.20.660 | T47: =SUM(H47,R47) -> 2 | U47: 14
B48: PREBENJAMIN OPEN | C48: FEMENINO | D48: A46 | E48: AINARA | F48: CUEVAS ALGORA | G48: CLUB PATÍN PARLA | H48: 1 | I48: 1.10.182 | R48: 1 | S48: 1.32.669 | T48: =SUM(H48,R48) -> 2 | U48: 14
B49: PREBENJAMIN OPEN | C49: FEMENINO | D49: A47 | E49: ISABEL | F49: MANZANARES LEAL | G49: CLUB PATÍN PARLA | H49: 1 | I49: 1.10.573 | R49: 1 | S49: 1.25.569 | T49: =SUM(H49,R49) -> 2 | U49: 14
B50: PREBENJAMIN OPEN | C50: FEMENINO | D50: A60 | E50: AMALIA | F50: MAMBLONA TEPENEU | G50: COLEGIO SAN JOSÉ | H50: 1 | I50: 1.12.744 | R50: 1 | S50: 1.34.959 | T50: =SUM(H50,R50) -> 2 | U50: 14
B51: PREBENJAMIN OPEN | C51: FEMENINO | D51: A61 | E51: NAOMI | F51: ROMAY ÁLVAREZ | G51: COLEGIO SAN JOSÉ | H51: 1 | I51: 1.13.120 | R51: 1 | S51: 1.30.626 | T51: =SUM(H51,R51) -> 2 | U51: 14
B52: PREBENJAMIN OPEN | C52: FEMENINO | D52: A49 | E52: NAYRA | F52: MUÑOZ FRAILE | G52: COLEGIO SAN JOSÉ | H52: 1 | I52: 1.15.941 | R52: 1 | S52: 1.37.834 | T52: =SUM(H52,R52) -> 2 | U52: 14
B53: PREBENJAMIN OPEN | C53: FEMENINO | D53: A38 | E53: SARA | F53: BERTOLO SANCHEZ | G53: CLUB PATÍN PARLA | H53: 1 | I53: 1.16.540 | R53: 1 | S53: 1.30.790 | T53: =SUM(H53,R53) -> 2 | U53: 14
... B55: PREBENJAMIN OPEN | C55: FEMENINO | D55: A45 | E55: VALERIA | F55: RAMIREZ | G55: CLUB PATÍN PARLA | H55: 1 | I55: 1.45.541 | R55: 1 | S55: 1.52.674 | T55: =SUM(H55,R55) -> 2 | U55: 14
D59: Nº | H59: Jornada 2- Burguillos | J59: Jornada 2 | L59: Jornada 3 | N59: Jornada 4 | P59: Jornada 5
B60: Categoría | C60: Sexo | D60: Dorsal | E60: Nombre | F60: Apellidos | G60: Club | H60: P. 1 - 3 v. + chican | I60: TIEMPO | J60: Prueba 1 | K60: Prueba 2 | L60: Prueba 1 | M60: Prueba 2 | N60: Prueba 1 | O60: Prueba 2 | P60: Prueba 1 | Q60: Prueba 2 | R60: P.2 - 4 vueltas | S60: TIEMPO | T60: TOTAL | U60: Clasificación
B61: PREBENJAMIN OPEN | C61: MASCULINO | D61: 2 | E61: NICOLÁS | F61: GILABERT BUSQUET | G61: PATÍN VELOCIDAD RIVAS | H61: 10 | I61: 51807 | R61: 8 | S61: 1.06.098 | T61: =SUM(H61,R61) -> 18 | U61: 1
B62: PREBENJAMIN OPEN | C62: MASCULINO | D62: A65 | E62: MATEO | F62: GALVÁN GARCÍA | G62: CDP CONSIGUELOTOLEDO | H62: 9 | I62: 52376 | R62: 9 | S62: 1.04.885 | T62: =SUM(H62,R62) -> 18 | U62: 1
B63: PREBENJAMIN OPEN | C63: MASCULINO | D63: 3 | E63: PABLO | F63: GIRIGAN | G63: CMP ARGANDA DEL REY | H63: 7 | I63: 54249 | R63: 10 | S63: 1.03.192 | T63: =SUM(H63,R63) -> 17 | U63: 3
B64: PREBENJAMIN OPEN | C64: MASCULINO | D64: A71 | E64: ANGEL | F64: ACEVEDO GOMEZ | G64: CDP CONSIGUELOTOLEDO | H64: 8 | I64: 52880 | R64: 7 | S64: 1.08.977 | T64: =SUM(H64,R64) -> 15 | U64: 4
B65: PREBENJAMIN OPEN | C65: MASCULINO | D65: A74 | E65: RAFAEL | F65: RODRIGUEZ DE PEDRO | G65: CMP ARGANDA DEL REY | H65: 6 | I65: 58169 | R65: 5 | S65: 1.14.323 | T65: =SUM(H65,R65) -> 11 | U65: 5
B66: PREBENJAMIN OPEN | C66: MASCULINO | D66: A66 | E66: ANGEL | F66: SANCHEZ RODRIGUEZ | G66: CLUB PATÍN PARLA | H66: 3 | I66: 1.01.909 | R66: 6 | S66: 1.13.913 | T66: =SUM(H66,R66) -> 9 | U66: 6
B67: PREBENJAMIN OPEN | C67: MASCULINO | D67: A64 | E67: AARÓN | F67: DÍAZ-MECO GÓMEZ | G67: CDP CONSIGUELOTOLEDO | H67: 5 | I67: 58303 | R67: 3 | S67: 1.20.514 | T67: =SUM(H67,R67) -> 8 | U67: 7
B68: PREBENJAMIN OPEN | C68: MASCULINO | D68: A73 | E68: ALEJANDRO | F68: MORENO JUANES | G68: CDP CONSIGUELOTOLEDO | H68: 4 | I68: 59456 | R68: NP | T68: =SUM(H68,R68) -> 4 | U68: 8
B69: PREBENJAMIN OPEN | C69: MASCULINO | D69: A76 | E69: FRANCISCO | F69: RODRÍGUEZ POLEO | G69: COLEGIO SAN JOSÉ | H69: 2 | I69: 1.16.167 | R69: 2 | S69: 1.35.052 | T69: =SUM(H69,R69) -> 4 | U69: 8
B70: PREBENJAMIN OPEN | C70: MASCULINO | D70: A72 | E70: MANUEL | F70: GARCÍA ANGELINA | G70: CLUB PATÍN PARLA | H70: DSQ | R70: 4 | S70: 1.15.381 | T70: =SUM(H70,R70) -> 4 | U70: 8
B71: PREBENJAMIN OPEN | C71: MASCULINO | D71: A68 | E71: DANIEL | F71: MORENO JUANES | G71: INDEPENDIENTE | H71: NF | R71: NP | T71: =SUM(H71,R71) -> 0 | U71: 11
D73: Nº | H73: Jornada 2- Burguillos | J73: Jornada 2 | L73: Jornada 3 | N73: Jornada 4 | P73: Jornada 5
B74: Categoría | C74: Sexo | D74: Dorsal | E74: Nombre | F74: Apellidos | G74: Club | H74: P. 1 - 4 v. + chican | I74: TIEMPO | J74: Prueba 1 | K74: Prueba 2 | L74: Prueba 1 | M74: Prueba 2 | N74: Prueba 1 | O74: Prueba 2 | P74: Prueba 1 | Q74: Prueba 2 | R74: P.2 - 5 vueltas | S74: TIEMPO | T74: TOTAL | U74: Clasificación
B75: BENJAMIN | C75: FEMENINO | D75: 3 | E75: CELIA | F75: CERISOLA BARRIOS | G75: CLUB PATÍN DE ORO | H75: 10 | I75: 58241 | R75: 10 | S75: 1.04.745 | T75: =SUM(H75,R75) -> 20 | U75: 1
B76: BENJAMIN | C76: FEMENINO | D76: 9 | E76: EVA | F76: FERNÁNDEZ PADILLA | G76: CLUB PATÍN DE ORO | H76: 9 | I76: 58624 | R76: 9 | S76: 1.06.180 | T76: =SUM(H76,R76) -> 18 | U76: 2
B77: BENJAMIN | C77: FEMENINO | D77: 4 | E77: PAULA | F77: ORDOÑEZ JIMENEZ | G77: CMP ARGANDA DEL REY | H77: 8 | I77: 59757 | R77: 8 | S77: 1.06.352 | T77: =SUM(H77,R77) -> 16 | U77: 3
B78: BENJAMIN | C78: FEMENINO | D78: 90 | E78: LUCÍA | F78: JIMENEZ MARTIN | G78: TALAVERA PATINA | H78: 7 | I78: 1.00.661 | R78: 5 | S78: 1.10.823 | T78: =SUM(H78,R78) -> 12 | U78: 4
B79: BENJAMIN | C79: FEMENINO | D79: B96 | E79: ÁFRICA | F79: SÁNCHEZ BERRACO | G79: CDP CONSIGUELOTOLEDO | H79: 6 | I79: 1.01.247 | R79: 6 | S79: 1.10.708 | T79: =SUM(H79,R79) -> 12 | U79: 4
B80: BENJAMIN | C80: FEMENINO | D80: 10 | E80: ELENA | F80: DIAZ MARTIN | G80: CLUB PATÍN DE ORO | H80: 5 | I80: 1.01.649 | R80: 7 | S80: 1.10.032 | T80: =SUM(H80,R80) -> 12 | U80: 4
B81: BENJAMIN | C81: FEMENINO | D81: 97 | E81: IRENE | F81: ALVAREZ LANCHA | G81: CMP ARGANDA DEL REY | H81: 4 | I81: 1.02.024 | R81: 4 | S81: 1.12.452 | T81: =SUM(H81,R81) -> 8 | U81: 7
B82: BENJAMIN | C82: FEMENINO | D82: 91 | E82: MARTA | F82: ACEÑA TIRADO | G82: CDP CONSIGUELOTOLEDO | H82: 3 | I82: 1.03.438 | R82: 3 | S82: 1.13.167 | T82: =SUM(H82,R82) -> 6 | U82: 8
B83: BENJAMIN | C83: FEMENINO | D83: 11 | E83: ALICIA | F83: PALOMAR GARCIA | G83: PATÍN VELOCIDAD RIVAS | H83: 2 | I83: 1.06.513 | R83: 2 | S83: 1.13.800 | T83: =SUM(H83,R83) -> 4 | U83: 9
B84: BENJAMIN | C84: FEMENINO | D84: 7 | E84: CLAUDIA | F84: FERNÁNDEZ ROMERO | G84: CMP ARGANDA DEL REY | H84: 1 | I84: 1.10.352 | R84: 1 | S84: 1.17.204 | T84: =SUM(H84,R84) -> 2 | U84: 10
D87: Nº | H87: Jornada 2- Burguillos | J87: Jornada 2 | L87: Jornada 3 | N87: Jornada 4 | P87: Jornada 5
B88: Categoría | C88: Sexo | D88: Dorsal | E88: Nombre | F88: Apellidos | G88: Club | H88: P. 1 - 4 v. + chican | I88: TIEMPO | J88: Prueba 1 | K88: Prueba 2 | L88: Prueba 1 | M88: Prueba 2 | N88: Prueba 1 | O88: Prueba 2 | P88: Prueba 1 | Q88: Prueba 2 | R88: P.2 - 5 vueltas | S88: TIEMPO | T88: TOTAL | U88: Clasificación
B89: BENJAMIN | C89: MASCULINO | D89: 15 | E89: RAUL | F89: JARDIM BARBA | G89: PATÍN VELOCIDAD RIVAS | H89: 10 | I89: 1.01.848 | R89: 10 | S89: 1.07.905 | T89: =SUM(H89,R89) -> 20 | U89: 1
B90: BENJAMIN | C90: MASCULINO | D90: 16 | E90: UNAI | F90: FDEZ-IZAGUIRRE ALVAREZ | G90: CMP ARGANDA DEL REY | H90: 9 | I90: 1.02.706 | R90: 9 | S90: 1.11.270 | T90: =SUM(H90,R90) -> 18 | U90: 2
B91: BENJAMIN | C91: MASCULINO | D91: B98 | E91: EDGAR | F91: DÍAZ-MECO GÓMEZ | G91: CDP CONSIGUELOTOLEDO | H91: 8 | I91: 1.03.426 | R91: 8 | S91: 1.17.428 | T91: =SUM(H91,R91) -> 16 | U91: 3
B92: BENJAMIN | C92: MASCULINO | D92: 14 | E92: BRAIS | F92: PAREDES OUTERIÑO | G92: PATÍN VELOCIDAD RIVAS | H92: 7 | I92: 1.09.958 | R92: 7 | S92: 1.19.216 | T92: =SUM(H92,R92) -> 14 | U92: 4
D95: Nº | H95: Jornada 2- Burguillos | J95: Jornada 2 | L95: Jornada 3 | N95: Jornada 4 | P95: Jornada 5
B96: Categoría | C96: Sexo | D96: Dorsal | E96: Nombre | F96: Apellidos | G96: Club | H96: P. 1 - 4 v. + chican | I96: TIEMPO | J96: Prueba 1 | K96: Prueba 2 | L96: Prueba 1 | M96: Prueba 2 | N96: Prueba 1 | O96: Prueba 2 | P96: Prueba 1 | Q96: Prueba 2 | R96: P.2 - 5 vueltas | S96: TIEMPO | T96: TOTAL | U96: Clasificación
B97: BENJAMIN ESCUELA | C97: FEMENINO | D97: A95 | E97: GABRIELA | F97: HUERTAS SÁNCHEZ | G97: IN LINE MADRID | H97: 10 | I97: 1.05.969 | R97: 10 | S97: 1.15.393 | T97: =SUM(H97,R97) -> 20 | U97: 1
B98: BENJAMIN ESCUELA | C98: FEMENINO | D98: 70 | E98: CLAUDIA | F98: CORROCHANO LOPEZ | G98: TALAVERA PATINA | H98: 9 | I98: 1.11.213 | R98: 7 | S98: 1.17.108 | T98: =SUM(H98,R98) -> 16 | U98: 2
B99: BENJAMIN ESCUELA | C99: FEMENINO | D99: 82 | E99: ROCIO | F99: GONZALEZ HINOJOSA | G99: CMP ARGANDA DEL REY | H99: 7 | I99: 1.13.442 | R99: 5 | S99: 1.20.780 | T99: =SUM(H99,R99) -> 12 | U99: 3
B100: BENJAMIN ESCUELA | C100: FEMENINO | D100: 64 | E100: SARA | F100: LLORET CLEMENTE | G100: VILLANUEVA DE LA TORRE | H100: 3 | I100: 1.15.161 | R100: 9 | S100: 1.16.446 | T100: =SUM(H100,R100) -> 12 | U100: 3
B101: BENJAMIN ESCUELA | C101: FEMENINO | D101: A80 | E101: DANIELA | F101: BORDONA MEDINA | G101: CLUB PATÍN PARLA | H101: 8 | I101: 1.11.942 | R101: 3 | S101: 1.22.784 | T101: =SUM(H101,R101) -> 11 | U101: 5
B102: BENJAMIN ESCUELA | C102: FEMENINO | D102: A77 | E102: ADRIANA | F102: DIAZ ARIAS | G102: CLUB PATÍN DE ORO | H102: 6 | I102: 1.13.706 | R102: 4 | S102: 1.21.397 | T102: =SUM(H102,R102) -> 10 | U102: 6
B103: BENJAMIN ESCUELA | C103: FEMENINO | D103: A93 | E103: VERÓNICA | F103: ARGÜELLO KUSZEWSKA | G103: COLEGIO SAN JOSÉ | H103: 2 | I103: 1.20.442 | R103: 6 | S103: 1.20.130 | T103: =SUM(H103,R103) -> 8 | U103: 7
B104: BENJAMIN ESCUELA | C104: FEMENINO | D104: 66 | E104: ROCIO | F104: PALMA ARCONES | G104: CDP CONSIGUELOTOLEDO | H104: DSQ | R104: 8 | S104: 1.16.628 | T104: =SUM(H104,R104) -> 8 | U104: 7
B105: BENJAMIN ESCUELA | C105: FEMENINO | D105: A79 | E105: PATRICIA | F105: ALMODÓVAR IZQUIERDO | G105: CLUB PATÍN PARLA | H105: 5 | I105: 1.14.323 | R105: 2 | S105: 1.24.682 | T105: =SUM(H105,R105) -> 7 | U105: 9
B106: BENJAMIN ESCUELA | C106: FEMENINO | D106: A89 | E106: SILVIA | F106: ALIA BAEZA | G106: CMP ARGANDA DEL REY | H106: 4 | I106: 1.14.517 | R106: 1 | S106: 1.30.341 | T106: =SUM(H106,R106) -> 5 | U106: 10
B107: BENJAMIN ESCUELA | C107: FEMENINO | D107: A87 | E107: PAULA | F107: SANCHEZ BUENO | G107: CLUB PATÍN PARLA | H107: 1 | I107: 1.23.335 | R107: 1 | S107: 1.26.366 | T107: =SUM(H107,R107) -> 2 | U107: 11
B108: BENJAMIN ESCUELA | C108: FEMENINO | D108: 50 | E108: ALBA | F108: ESCUDERO ASENSIO | G108: CDP CONSIGUELOTOLEDO | H108: 1 | I108: 1.23.895 | R108: 1 | S108: 1.37.544 | T108: =SUM(H108,R108) -> 2 | U108: 11
B109: BENJAMIN ESCUELA | C109: FEMENINO | D109: A84 | E109: MIRIAM | F109: MARTIN CRUZ | G109: CLUB PATÍN PARLA | H109: 1 | I109: 1.24.268 | R109: 1 | S109: 1.38.180 | T109: =SUM(H109,R109) -> 2 | U109: 11
B110: BENJAMIN ESCUELA | C110: FEMENINO | D110: A83 | E110: PAULA | F110: IZQUIERDO DE ARRIBA | G110: CLUB PATÍN PARLA | H110: 1 | I110: 1.25.981 | R110: 1 | S110: 1.43.143 | T110: =SUM(H110,R110) -> 2 | U110: 11
B111: BENJAMIN ESCUELA | C111: FEMENINO | D111: A88 | E111: IRIS | F111: SÁNCHEZ DIOS | G111: CLUB PATÍN PARLA | H111: 1 | I111: 1.26.403 | R111: 1 | S111: 1.37.100 | T111: =SUM(H111,R111) -> 2 | U111: 11
B112: BENJAMIN ESCUELA | C112: FEMENINO | D112: A98 | E112: JIMENA | F112: GARCÍA RODRÍGUEZ | G112: PATÍN VELOCIDAD RIVAS | H112: 1 | I112: 1.39.756 | R112: 1 | S112: 1.57.920 | T112: =SUM(H112,R112) -> 2 | U112: 11
B113: BENJAMIN ESCUELA | C113: FEMENINO | D113: 57 | E113: SILVIA | F113: SOJO YUSTE | G113: CLUB PATÍN PARLA | H113: 1 | I113: 1.52.061 | R113: 1 | S113: 1.37.058 | T113: =SUM(H113,R113) -> 2 | U113: 11
D116: Nº | H116: Jornada 2- Burguillos | J116: Jornada 2 | L116: Jornada 3 | N116: Jornada 4 | P116: Jornada 5
B117: Categoría | C117: Sexo | D117: Dorsal | E117: Nombre | F117: Apellidos | G117: Club | H117: P. 1 - 4 v. + chican | I117: TIEMPO | J117: Prueba 1 | K117: Prueba 2 | L117: Prueba 1 | M117: Prueba 2 | N117: Prueba 1 | O117: Prueba 2 | P117: Prueba 1 | Q117: Prueba 2 | R117: P.2 - 5 vueltas | S117: TIEMPO | T117: TOTAL | U117: Clasificación
B118: BENJAMIN ESCUELA | C118: MASCULINO | D118: 16 | E118: MIGUEL | F118: MERINO VICO | G118: VILLANUEVA DE LA TORRE | H118: 10 | I118: 1.08.213 | R118: 10 | S118: 1.16.022 | T118: =SUM(H118,R118) -> 20 | U118: 1
...

Sheet PARLA
C2: I LIGA CENTRO
C3: 3ª Jornada - Parla
C4: 14 de abril de 2019
D7: Nº | H7: Jornada 3 Parla | J7: Jornada 2 | L7: Jornada 3 | N7: Jornada 4 | P7: Jornada 5
B8: Categoría | C8: Sexo | D8: Dorsal | E8: Nombre | F8: Apellidos | G8: Club | H8: Prueba 1 - Obstáculos (SERIES) | I8: Prueba 2 - 180m (SERIES) | J8: Prueba 1 | K8: Prueba 2 | L8: Prueba 1 | M8: Prueba 2 | N8: Prueba 1 | O8: Prueba 2 | P8: Prueba 1 | Q8: Prueba 2 | R8: TOTAL | S8: Clasificación
B9: MINI OPEN | C9: FEMENINO | D9: A14 | E9: JIMENA | F9: PASCUA RODRÍGUEZ | G9: CLUB PATÍN PARLA | H9: 10 | I9: 9 | R9: =H9+I9 -> 19 | S9: 1
B10: MINI OPEN | C10: FEMENINO | D10: A1 | E10: MAIALEN | F10: BENITO UGARTE | G10: CDP CONSIGUELOTOLEDO | H10: 9 | I10: 7 | R10: =H10+I10 -> 16 | S10: 2
B11: MINI OPEN | C11: FEMENINO | D11: A8 | E11: VIRGINIA | F11: BARRAGÁN MÉNDEZ | G11: CLUB PATÍN PARLA | H11: 5 | I11: 10 | R11: =H11+I11 -> 15 | S11: 3
B12: MINI OPEN | C12: FEMENINO | D12: A17 | E12: CLAUDIA | F12: SENDIN PETRONILA | G12: CLUB PATÍN PARLA | H12: 7 | I12: 8 | R12: =H12+I12 -> 15 | S12: 4
B13: MINI OPEN | C13: FEMENINO | D13: 46 | E13: AROA | F13: ORTÍZ GARCÍA | G13: CLUB PATÍN PARLA | H13: 8 | I13: 3 | R13: =H13+I13 -> 11 | S13: 5
B14: MINI OPEN | C14: FEMENINO | D14: A19 | E14: OLIVIA | F14: SIMON MONTERO | G14: CLUB PATÍN PARLA | H14: 3 | I14: 6 | R14: =H14+I14 -> 9 | S14: 6
B15: MINI OPEN | C15: FEMENINO | D15: A6 | E15: LUCÍA | F15: ALMODÓVAR IZQUIERDO | G15: CLUB PATÍN PARLA | H15: 3 | I15: 5 | R15: =H15+I15 -> 8 | S15: 7
B16: MINI OPEN | C16: FEMENINO | D16: A10 | E16: MARIA | F16: SERENA CRESPO | G16: CLUB PATÍN PARLA | H16: 6 | I16: 1 | R16: =H16+I16 -> 7 | S16: 8
B17: MINI OPEN | C17: FEMENINO | D17: 47 | E17: CARLA | F17: PALOMINO CONTRERAS | G17: CLUB PATÍN PARLA | H17: 3 | I17: 3 | R17: =H17+I17 -> 6 | S17: 9
B18: MINI OPEN | C18: FEMENINO | D18: 80 | E18: CARLA | F18: ESTEBAN SERRANO | G18: CLUB PATÍN PARLA | H18: 1 | I18: 3 | R18: =H18+I18 -> 4 | S18: 10
B19: MINI OPEN | C19: FEMENINO | D19: A11 | E19: AYLA | F19: MACÍAS ROJO | G19: CLUB PATÍN PARLA | H19: 1 | I19: 1 | R19: =H19+I19 -> 2 | S19: 11
B20: MINI OPEN | C20: FEMENINO | D20: A5 | E20: ARIADNA | F20: RIVERA NEIRA | G20: CLUB PATIN DE ORO | H20: 1 | I20: 1 | R20: =H20+I20 -> 2 | S20: 11
B21: MINI OPEN | C21: FEMENINO | D21: A12 | E21: LEIRE | F21: MÉNDEZ SUÁREZ | G21: CLUB PATÍN PARLA | H21: 1 | I21: 1 | R21: =H21+I21 -> 2 | S21: 11
B22: MINI OPEN | C22: FEMENINO | D22: A15 | E22: CLAUDIA | F22: PASTOR QUIJADA | G22: CLUB PATÍN PARLA | H22: 1 | I22: 1 | R22: =H22+I22 -> 2 | S22: 11
B23: MINI OPEN | C23: FEMENINO | D23: A7 | E23: MARÍA | F23: MARTÍN GARCÍA | G23: CLUB PATÍN PARLA | H23: 1 | I23: 1 | R23: =H23+I23 -> 2 | S23: 11
B24: MINI OPEN | C24: FEMENINO | D24: A9 | E24: SOFÍA | F24: FRANCISCO BARBEIROS | G24: CLUB PATÍN PARLA | H24: 1 | I24: 1 | R24: =H24+I24 -> 2 | S24: 11
H25: VER COMENTARIO | I25: VER COMENTARIO
D28: Nº | H28: Jornada 3 Parla | J28: Jornada 2 | L28: Jornada 3 | N28: Jornada 4 | P28: Jornada 5
B29: Categoría | C29: Sexo | D29: Dorsal | E29: Nombre | F29: Apellidos | G29: Club | H29: Prueba 1 - Obstáculos (SERIES) | I29: Prueba 2 - 180m (SERIES) | J29: Prueba 1 | K29: Prueba 2 | L29: Prueba 1 | M29: Prueba 2 | N29: Prueba 1 | O29: Prueba 2 | P29: Prueba 1 | Q29: Prueba 2 | R29: TOTAL | S29: Clasificación
B30: MINI OPEN | C30: MASCULINO | D30: A27 | E30: NICOLÁS | F30: GARCÍA AMAYA | G30: CLUB PATIN PARLA | H30: 9 | I30: 10 | R30: =H30+I30 -> 19 | S30: 1
B31: MINI OPEN | C31: MASCULINO | D31: 83 | E31: DANIEL | F31: VARELA GARCÍA | G31: CLUB PATIN PARLA | H31: 10 | I31: 8 | R31: =H31+I31 -> 18 | S31: 2
B32: MINI OPEN | C32: MASCULINO | D32: A21 | E32: VÍCTOR | F32: GALVÁN GARCÍA | G32: CONSIGUELOTOLEDO | H32: 7 | I32: 9 | R32: =H32+I32 -> 16 | S32: 3
B33: MINI OPEN | C33: MASCULINO | D33: A25 | E33: DAVID | F33: HERNANDEZ DIAZ | G33: CMP ARGANDA DEL REY | H33: 8 | I33: 7 | R33: =H33+I33 -> 15 | S33: 4
B34: MINI OPEN | C34: MASCULINO | D34: A28 | E34: JAIME | F34: MONTE LEAL | G34: CLUB PATIN PARLA | H34: 5 | I34: 6 | R34: =H34+I34 -> 11 | S34: 5
B35: MINI OPEN | C35: MASCULINO | D35: 95 | E35: AITOR | F35: MUÑOZ MIROSHNICHENKO | G35: CLUB PATIN DE ORO | H35: 6 | I35: 5 | R35: =H35+I35 -> 11 | S35: 5
D38: Nº | H38: Jornada 3 Parla | J38: Jornada 2 | L38: Jornada 3 | N38: Jornada 4 | P38: Jornada 5
B39: Categoría | C39: Sexo | D39: Dorsal | E39: Nombre | F39: Apellidos | G39: Club | H39: Prueba 1 - Obstáculos (SERIES) | I39: Prueba 2 - 1 1VUELTA 365m (SERIES) | J39: Prueba 1 | K39: Prueba 2 | L39: Prueba 1 | M39: Prueba 2 | N39: Prueba 1 | O39: Prueba 2 | P39: Prueba 1 | Q39: Prueba 2 | R39: TOTAL | S39: Clasificación
B40: PREBENJAMIN OPEN | C40: FEMENINO | D40: A30 | E40: LLANOS | F40: FERNADEZ GARCIA | G40: CLUB PATIN DE ORO | H40: 10 | I40: 9 | R40: =H40+I40 -> 19 | S40: 1
B41: PREBENJAMIN OPEN | C41: FEMENINO | D41: A57 | E41: CARLOTA | F41: RODRÍGUEZ LÓPEZ | G41: CMP ARGANDA DEL REY | H41: 5 | I41: 10 | R41: =H41+I41 -> 15 | S41: 2
B42: PREBENJAMIN OPEN | C42: FEMENINO | D42: 13 | E42: LUCÍA | F42: VARELA GARCÍA | G42: CLUB PATIN PARLA | H42: 9 | I42: 4 | R42: =H42+I42 -> 13 | S42: 3
B43: PREBENJAMIN OPEN | C43: FEMENINO | D43: A52 | E43: AINARA | F43: ROMÁN LOGROSÁN | G43: CLUB PATIN PARLA | H43: 7 | I43: 6 | R43: =H43+I43 -> 13 | S43: 3
B44: PREBENJAMIN OPEN | C44: FEMENINO | D44: A39 | E44: MARÍA | F44: BORDONA MEDINA | G44: CLUB PATIN PARLA | H44: 8 | I44: 4 | R44: =H44+I44 -> 12 | S44: 4
B45: PREBENJAMIN OPEN | C45: FEMENINO | D45: A34 | E45: ALBA | F45: PINO SOTILLOS | G45: VILLANUEVA DE LA TORRE | H45: 4 | I45: 8 | R45: =H45+I45 -> 12 | S45: 4
B46: PREBENJAMIN OPEN | C46: FEMENINO | D46: A31 | E46: EVA | F46: FERNÁNDEZ OLEA | G46: CLUB PATÍN DE ORO | H46: 4 | I46: 5 | R46: =H46+I46 -> 9 | S46: 5
B47: PREBENJAMIN OPEN | C47: FEMENINO | D47: 1 | E47: SARA | F47: FERNANDEZ PADILLA | G47: CLUB PATIN DE ORO | H47: 1 | I47: 7 | R47: =H47+I47 -> 8 | S47: 6
B48: PREBENJAMIN OPEN | C48: FEMENINO | D48: A40 | E48: ÁFRICA | F48: CABELLO OLIRENZA | G48: CLUB PATIN PARLA | H48: 6 | I48: 1 | R48: =H48+I48 -> 7 | S48: 7
B49: PREBENJAMIN OPEN | C49: FEMENINO | D49: A38 | E49: SARA | F49: BERTOLO SÁNCHEZ | G49: CLUB PATIN PARLA | H49: 1 | I49: 1 | R49: =H49+I49 -> 2 | S49: 8
B50: PREBENJAMIN OPEN | C50: FEMENINO | D50: A43 | E50: MARÍA | F50: FUENTES RUBIO | G50: CLUB PATIN PARLA | H50: 1 | I50: 1 | R50: =H50+I50 -> 2 | S50: 8
B51: PREBENJAMIN OPEN | C51: FEMENINO | D51: 59 | E51: DANA | F51: BLANCO CUESTA | G51: CLUB PATIN DE ORO | H51: 1 | I51: 1 | R51: =H51+I51 -> 2 | S51: 8
B52: PREBENJAMIN OPEN | C52: FEMENINO | D52: A29 | E52: INDIRA | F52: BLANCO CUESTA | G52: CLUB PATIN DE ORO | H52: 1 | I52: 1 | R52: =H52+I52 -> 2 | S52: 8
B53: PREBENJAMIN OPEN | C53: FEMENINO | D53: A33 | E53: ADHARA | F53: MORA FERNANDEZ | G53: CLUB PATÍN DE ORO | H53: 1 | I53: 1 | R53: =H53+I53 -> 2 | S53: 8
D57: Nº | H57: Jornada 3 Parla | J57: Jornada 2 | L57: Jornada 3 | N57: Jornada 4 | P57: Jornada 5
B58: Categoría | C58: Sexo | D58: Dorsal | E58: Nombre | F58: Apellidos | G58: Club | H58: Prueba 1 - Obstáculos (SERIES) | I58: Prueba 2 - 1 1VUELTA 365m (SERIES) | J58: Prueba 1 | K58: Prueba 2 | L58: Prueba 1 | M58: Prueba 2 | N58: Prueba 1 | O58: Prueba 2 | P58: Prueba 1 | Q58: Prueba 2 | R58: TOTAL | S58: Clasificación
B59: PREBENJAMIN OPEN | C59: MASCULINO | D59: 2 | E59: NICOLÁS | F59: GILABERT BUSQUET | G59: RIVAS IN-GRAVITY | H59: 10 | I59: 9 | R59: =H59+I59 -> 19 | S59: 1
B60: PREBENJAMIN OPEN | C60: MASCULINO | D60: 3 | E60: PABLO | F60: GIRIGAN | G60: CMP ARGANDA DEL REY | H60: 7 | I60: 10 | R60: =H60+I60 -> 17 | S60: 2
B61: PREBENJAMIN OPEN | C61: MASCULINO | D61: A65 | E61: MATEO | F61: GALVÁN GARCÍA | G61: CONSIGUELOTOLEDO | H61: 9 | I61: 7 | R61: =H61+I61 -> 16 | S61: 3
B62: PREBENJAMIN OPEN | C62: MASCULINO | D62: A67 | E62: FERNANDO | F62: GARCIA PINTUS | G62: CLUB PATIN DE ORO | H62: 4 | I62: 8 | R62: =H62+I62 -> 12 | S62: 4
B63: PREBENJAMIN OPEN | C63: MASCULINO | D63: A64 | E63: AARÓN | F63: DÍAZ-MECO GÓMEZ | G63: CONSIGUELOTOLEDO | H63: 8 | I63: 4 | R63: =H63+I63 -> 12 | S63: 4
B64: PREBENJAMIN OPEN | C64: MASCULINO | D64: A73 | E64: MATÍAS | F64: GARCÍA SABANI | G64: CLUB PATIN PARLA | H64: 4 | I64: 6 | R64: =H64+I64 -> 10 | S64: 5
B65: PREBENJAMIN OPEN | C65: MASCULINO | D65: A74 | E65: RAFAEL | F65: RODRÍGUEZ DE PEDRO | G65: CMP ARGANDA DEL REY | H65: 6 | I65: 4 | R65: =H65+I65 -> 10 | S65: 5
B66: PREBENJAMIN OPEN | C66: MASCULINO | D66: A66 | E66: ÁNGEL | F66: SÁNCHEZ RODRÍGUEZ | G66: CLUB PATIN PARLA | H66: 5 | I66: 5 | R66: =H66+I66 -> 10 | S66: 5
B67: PREBENJAMIN OPEN | C67: MASCULINO | D67: A71 | E67: ADRIAN | F67: RIVERA NEIRA | G67: CLUB PATIN DE ORO | H67: 1 | I67: 1 | R67: =H67+I67 -> 2 | S67: 6
D70: Nº | H70: Jornada 3 Parla | J70: Jornada 2 | L70: Jornada 3 | N70: Jornada 4 | P70: Jornada 5
B71: Categoría | C71: Sexo | D71: Dorsal | E71: Nombre | F71: Apellidos | G71: Club | H71: Prueba 1 - Obstáculos (SERIES) | I71: Prueba 2 - 2,5 VUELTAS 910m (SERIES) | J71: Prueba 1 | K71: Prueba 2 | L71: Prueba 1 | M71: Prueba 2 | N71: Prueba 1 | O71: Prueba 2 | P71: Prueba 1 | Q71: Prueba 2 | R71: TOTAL | S71: Clasificación
B72: BENJAMIN | C72: FEMENINO | D72: 9 | E72: EVA | F72: FERNANDEZ PADILLA | G72: CLUB PATIN DE ORO | H72: 9 | I72: 9 | R72: =H72+I72 -> 18 | S72: 1
B73: BENJAMIN | C73: FEMENINO | D73: 48 | E73: EMMA | F73: CONSUEGRA FERNÁNDEZ | G73: CMP ARGANDA DEL REY | H73: 8 | I73: 10 | R73: =H73+I73 -> 18 | S73: 1
B74: BENJAMIN | C74: FEMENINO | D74: 8 | E74: CELIA | F74: CERISOLA BARRIOS | G74: CLUB PATIN DE ORO | H74: 10 | I74: 7 | R74: =H74+I74 -> 17 | S74: 2
B75: BENJAMIN | C75: FEMENINO | D75: 4 | E75: PAULA | F75: ORDÓÑEZ JIMÉNEZ | G75: CMP ARGANDA DEL REY | H75: 4 | I75: 8 | R75: =H75+I75 -> 12 | S75: 3
B76: BENJAMIN | C76: FEMENINO | D76: 10 | E76: ELENA | F76: DIAZ MARTIN | G76: CLUB PATIN DE ORO | H76: 5 | I76: 6 | R76: =H76+I76 -> 11 | S76: 4
B77: BENJAMIN | C77: FEMENINO | D77: 90 | E77: LUCÍA | F77: JIMÉNEZ MARTÍN | G77: TALAVERA PATINA | H77: 6 | I77: 5 | R77: =H77+I77 -> 11 | S77: 4
B78: BENJAMIN | C78: FEMENINO | D78: B96 | E78: ÁFRICA | F78: SÁNCHEZ BERRACO | G78: CONSIGUELOTOLEDO | H78: 7 | I78: 4 | R78: =H78+I78 -> 11 | S78: 4
B79: BENJAMIN | C79: FEMENINO | D79: 11 | E79: ALICIA | F79: GARCÍA PALOMAR | G79: RIVAS IN-GRAVITY | H79: 4 | I79: 4 | R79: =H79+I79 -> 8 | S79: 5
B80: BENJAMIN | C80: FEMENINO | D80: 7 | E80: CLAUDIA | F80: FERNÁNDEZ ROMERO | G80: CMP ARGANDA DEL REY | H80: 1 | I80: 1 | R80: =H80+I80 -> 2 | S80: 6
B81: BENJAMIN | C81: FEMENINO | D81: 44 | E81: CARLOTA | F81: SANTANA TRIGO | G81: CMP ARGANDA DEL REY | H81: 1 | I81: 1 | R81: =H81+I81 -> 2 | S81: 6
D84: Nº | H84: Jornada 3 Parla | J84: Jornada 2 | L84: Jornada 3 | N84: Jornada 4 | P84: Jornada 5
B85: Categoría | C85: Sexo | D85: Dorsal | E85: Nombre | F85: Apellidos | G85: Club | H85: Prueba 1 - Obstáculos (SERIES) | I85: Prueba 2 - 2,5 VUELTAS 910m (SERIES) | J85: Prueba 1 | K85: Prueba 2 | L85: Prueba 1 | M85: Prueba 2 | N85: Prueba 1 | O85: Prueba 2 | P85: Prueba 1 | Q85: Prueba 2 | R85: TOTAL | S85: Clasificación
B86: BENJAMIN | C86: MASCULINO | D86: 16 | E86: UNAI | F86: FDEZ-IZAGUIRRE ÁLVAREZ | G86: CMP ARGANDA DEL REY | H86: 9 | I86: 10 | R86: =H86+I86 -> 19 | S86: 1
B87: BENJAMIN | C87: MASCULINO | D87: 15 | E87: RAÚL | F87: JARDIM BARBA | G87: RIVAS IN-GRAVITY | H87: 10 | I87: 8 | R87: =H87+I87 -> 18 | S87: 2
B88: BENJAMIN | C88: MASCULINO | D88: B98 | E88: EDGAR | F88: DÍAZ-MECO GÓMEZ | G88: CONSIGUELOTOLEDO | H88: 8 | I88: 9 | R88: =H88+I88 -> 17 | S88: 3
D91: Nº | H91: Jornada 3 Parla | J91: Jornada 2 | L91: Jornada 3 | N91: Jornada 4 | P91: Jornada 5
B92: Categoría | C92: Sexo | D92: Dorsal | E92: Nombre | F92: Apellidos | G92: Club | H92: Prueba 1 - Obstáculos (SERIES) | I92: Prueba 2 - 1,5 VUELTAS 545m (SERIES) | J92: Prueba 1 | K92: Prueba 2 | L92: Prueba 1 | M92: Prueba 2 | N92: Prueba 1 | O92: Prueba 2 | P92: Prueba 1 | Q92: Prueba 2 | R92: TOTAL | S92: Clasificación
B93: BENJAMIN ESCUELA | C93: FEMENINO | D93: 52 | E93: ISABEL | F93: PÉREZ PARÍS | G93: CMP ARGANDA DEL REY | H93: 10 | I93: 10 | R93: =H93+I93 -> 20 | S93: 1
B94: BENJAMIN ESCUELA | C94: FEMENINO | D94: 82 | E94: ROCÍO | F94: GONZÁLEZ HINOJOSA | G94: CMP ARGANDA DEL REY | H94: 5 | I94: 9 | R94: =H94+I94 -> 14 | S94: 2
B95: BENJAMIN ESCUELA | C95: FEMENINO | D95: A80 | E95: DANIELA | F95: BORDONA MEDINA | G95: CLUB PATIN PARLA | H95: 7 | I95: 6 | R95: =H95+I95 -> 13 | S95: 3
B96: BENJAMIN ESCUELA | C96: FEMENINO | D96: 66 | E96: ROCÍO | F96: PALMA ARCONES | G96: CONSIGUELOTOLEDO | H96: 8 | I96: 4 | R96: =H96+I96 -> 12 | S96: 4
B97: BENJAMIN ESCUELA | C97: FEMENINO | D97: 64 | E97: SARA | F97: LLORET CLEMENTE | G97: VILLANUEVA DE LA TORRE | H97: 4 | I97: 8 | R97: =H97+I97 -> 12 | S97: 5
B98: BENJAMIN ESCUELA | C98: FEMENINO | D98: A78 | E98: TRIANA | F98: ABELLA GARCÍA | G98: CLUB PATIN PARLA | H98: 9 | I98: 1 | R98: =H98+I98 -> 10 | S98: 6
B99: BENJAMIN ESCUELA | C99: FEMENINO | D99: A79 | E99: PATRICIA | F99: ALMODÓVAR IZQUIERDO | G99: CLUB PATIN PARLA | H99: 1 | I99: 7 | R99: =H99+I99 -> 8 | S99: 7
B100: BENJAMIN ESCUELA | C100: FEMENINO | D100: A77 | E100: ADRIANA | F100: DÍAZ ARIAS | G100: CLUB PATIN DE ORO | H100: 4 | I100: 4 | R100: =H100+I100 -> 8 | S100: 7
B101: BENJAMIN ESCUELA | C101: FEMENINO | D101: A84 | E101: MIRIAM | F101: MARTÍN CRUZ | G101: CLUB PATIN PARLA | H101: 6 | I101: 1 | R101: =H101+I101 -> 7 | S101: 8
B102: BENJAMIN ESCUELA | C102: FEMENINO | D102: A81 | E102: NAIARA | F102: FERNÁNDEZ SANTOS | G102: CLUB PATIN PARLA | H102: 1 | I102: 5 | R102: =H102+I102 -> 6 | S102: 9
B103: BENJAMIN ESCUELA | C103: FEMENINO | D103: 57 | E103: SILVIA | F103: SOJO YUSTE | G103: CLUB PATIN PARLA | H103: 1 | I103: 1 | R103: =H103+I103 -> 2 | S103: 10
B104: BENJAMIN ESCUELA | C104: FEMENINO | D104: A89 | E104: SILVIA | F104: ALIA BAEZA | G104: CMP ARGANDA DEL REY | H104: 1 | I104: 1 | R104: =H104+I104 -> 2 | S104: 10
B105: BENJAMIN ESCUELA | C105: FEMENINO | D105: A85 | E105: LUCÍA | F105: PASCUA RODRÍGUEZ | G105: CLUB PATIN PARLA | H105: 1 | I105: 1 | R105: =H105+I105 -> 2 | S105: 10
D107: Nº | H107: Jornada 3 Parla | J107: Jornada 2 | L107: Jornada 3 | N107: Jornada 4 | P107: Jornada 5
B108: Categoría | C108: Sexo | D108: Dorsal | E108: Nombre | F108: Apellidos | G108: Club | H108: Prueba 1 - Obstáculos (SERIES) | I108: Prueba 2 - 1,5 VUELTAS 545m (SERIES) | J108: Prueba 1 | K108: Prueba 2 | L108: Prueba 1 | M108: Prueba 2 | N108: Prueba 1 | O108: Prueba 2 | P108: Prueba 1 | Q108: Prueba 2 | R108: TOTAL | S108: Clasificación
B109: BENJAMIN ESCUELA | C109: MASCULINO | D109: 92 | E109: CRISTIAN | F109: RIVAS MARTÍN | G109: CLUB PATIN PARLA | H109: 9 | I109: 10 | R109: =H109+I109 -> 19 | S109: 1
B110: BENJAMIN ESCUELA | C110: MASCULINO | D110: A53 | E110: MIGUEL | F110: MERINO VICO | G110: VILLANUEVA DE LA TORRE | H110: 10 | I110: 8 | R110: =H110+I110 -> 18 | S110: 2
B111: BENJAMIN ESCUELA | C111: MASCULINO | D111: 90 | E111: JAVIER | F111: RIVAS MARTÍN | G111: CLUB PATIN PARLA | H111: 8 | I111: 9 | R111: =H111+I111 -> 17 | S111: 3
B112: BENJAMIN ESCUELA | C112: MASCULINO | D112: 81 | E112: BRYAN | F112: VALVERDE TENECELA | G112: CLUB PATIN PARLA | H112: 7 | I112: 7 | R112: =H112+I112 -> 14 | S112: 4
D115: Nº | H115: Jornada 3 Parla | J115: Jornada 2 | L115: Jornada 3 | N115: Jornada 4 | P115: Jornada 5
B116: Categoría | C116: Sexo | D116: Dorsal | E116: Nombre | F116: Apellidos | G116: Club | H116: Prueba 1 - Obstáculos (SERIES) | I116: Prueba 2 - 4 VUELTAS 1460m (SERIES) | J116: Prueba 1 | K116: Prueba 2 | L116: Prueba 1 | M116: Prueba 2 | N116: Prueba 1 | O116: Prueba 2 | P116: Prueba 1 | Q116: Prueba 2 | R116: TOTAL | S116: Clasificación
B117: ALEVIN | C117: FEMENINO | D117: 84 | E117: CLAUDIA | F117: CONSUEGRA FERNÁNDEZ | G117: CMP ARGANDA DEL REY | H117: 9 | I117: 9 | R117: =H117+I117 -> 18 | S117: 1
B118: ALEVIN | C118: FEMENINO | D118: B13 | E118: MARÍA FERNANDA | F118: RODRIGUEZ IBAÑEZ | G118: CLUB DEPORTIVO SKATING DREAMS | H118: 10 | I118: 8 | R118: =H118+I118 -> 18 | S118: 1
B119: ALEVIN | C119: FEMENINO | D119: 18 | E119: IRENE | F119: FERNÁNDEZ CANALEJO | G119: CMP ARGANDA DEL REY | H119: 6 | I119: 10 | R119: =H119+I119 -> 16 | S119: 2
...

Sheet ARGANDA

Sheet ALUCHE

Sheet GENERAL
C2: I LIGA CENTRO
C3: CLASIFICACIÓN GENERAL
C4: 23 de febrero de 2019
B8: Categoría | C8: Sexo | D8: Nombre | E8: Apellidos | F8: Club | G8: RIVAS | H8: BURGUILLOS | I8: PARLA | J8: ARGANDA | K8: ALUCHE | L8: TOTAL
A9: 1 | B9: MINI OPEN | C9: FEMENINO | D9: MAIALEN | E9: BENITO UGARTE | F9: CDP CONSIGUELOTOLEDO | G9: =SUM(RIVAS!S9) -> 17 | H9: 20 | I9: 16 | L9: =SUM(G9:K9) -> 53
A10: 2 | B10: MINI OPEN | C10: FEMENINO | D10: CLAUDIA | E10: SENDIN PETRONILA | F10: CLUB PATÍN PARLA | G10: =SUM(RIVAS!S13) -> 13 | H10: 16 | I10: 15 | L10: =SUM(G10:K10) -> 44
A11: 3 | B11: MINI OPEN | C11: FEMENINO | D11: AROA | E11: ORTIZ GARCÍA | F11: CLUB PATÍN PARLA | G11: =SUM(RIVAS!S12) -> 14 | H11: 12 | I11: 11 | L11: =SUM(G11:K11) -> 37
A12: 4 | B12: MINI OPEN | C12: FEMENINO | D12: JIMENA | E12: PASCUA RODRÍGUEZ | F12: CLUB PATÍN PARLA | G12: =SUM(RIVAS!S10) -> 16 | I12: 19 | L12: =SUM(G12:K12) -> 35
A13: 5 | B13: MINI OPEN | C13: FEMENINO | D13: VIRGINIA | E13: BARRAGAN MENDEZ | F13: CLUB PATÍN PARLA | G13: =SUM(RIVAS!S11) -> 15 | I13: 15 | L13: =SUM(G13:K13) -> 30
A14: 6 | B14: MINI OPEN | C14: FEMENINO | D14: CARLA | E14: GARCÍA ÁLVAREZ | F14: CLUB PATÍN PARLA | G14: =SUM(RIVAS!S14) -> 11 | H14: 17 | L14: =SUM(G14:K14) -> 28
A15: 7 | B15: MINI OPEN | C15: FEMENINO | D15: OLIVIA | E15: SIMON MONTERO | F15: CLUB PATÍN PARLA | G15: =SUM(RIVAS!S15) -> 7 | H15: 9 | I15: 9 | L15: =SUM(G15:K15) -> 25
A16: 8 | B16: MINI OPEN | C16: FEMENINO | D16: LUCÍA | E16: ALMODÓVAR IZQUIERDO | F16: CLUB PATÍN PARLA | G16: =SUM(RIVAS!S21) -> 2 | H16: 6 | I16: 8 | L16: =SUM(G16:K16) -> 16
A17: 9 | B17: MINI OPEN | C17: FEMENINO | D17: MARIA | E17: SERENA CRESPO | F17: CLUB PATÍN PARLA | H17: 5 | I17: 7 | L17: =SUM(G17:K17) -> 12
A18: 10 | B18: MINI OPEN | C18: FEMENINO | D18: LEIRE | E18: MÉNDEZ SUAREZ | F18: CLUB PATÍN PARLA | G18: =SUM(RIVAS!S24) -> 2 | H18: 6 | I18: 2 | L18: =SUM(G18:K18) -> 10
A19: 11 | B19: MINI OPEN | C19: FEMENINO | D19: MATILDE | E19: GÓMEZ NIETO | F19: CLUB PATÍN DE ORO | G19: =SUM(RIVAS!S16) -> 9 | L19: =SUM(G19:K19) -> 9
A20: 12 | B20: MINI OPEN | C20: FEMENINO | D20: NEREA | E20: ESCUDERO ASENSIO | F20: CDP CONSIGUELOTOLEDO | H20: 7 | L20: =SUM(G20:K20) -> 7
A21: 13 | B21: MINI OPEN | C21: FEMENINO | D21: AYLA | E21: MACIAS ROJO | F21: CLUB PATÍN PARLA | G21: =SUM(RIVAS!S28) -> 0 | H21: 4 | I21: 2 | L21: =SUM(G21:K21) -> 6
A22: 13 | B22: MINI OPEN | C22: FEMENINO | D22: MARIA | E22: MARTIN GARCIA | F22: CLUB PATÍN PARLA | H22: 4 | I22: 2 | L22: =SUM(G22:K22) -> 6
A23: 13 | B23: MINI OPEN | C23: FEMENINO | D23: CARLA | E23: PALOMINO CONTRERAS | F23: CLUB PATIN PARLA | I23: 6 | L23: =SUM(G23:K23) -> 6
A24: 14 | B24: MINI OPEN | C24: FEMENINO | D24: NEREA | E24: RODRIGUEZ RUBIO | F24: CLUB PATÍN PARLA | G24: =SUM(RIVAS!S17) -> 4 | L24: =SUM(G24:K24) -> 4
A25: 14 | B25: MINI OPEN | C25: FEMENINO | D25: LUCIA | E25: ARROYO REDONDO | F25: CLUB PATÍN DE ORO | G25: =SUM(RIVAS!S18) -> 4 | L25: =SUM(G25:K25) -> 4
A26: 14 | B26: MINI OPEN | C26: FEMENINO | D26: ARIADNA | E26: RIVERA NEIRA | F26: CLUB PATÍN DE ORO | G26: =SUM(RIVAS!S19) -> 2 | I26: 2 | L26: =SUM(G26:K26) -> 4
A27: 14 | B27: MINI OPEN | C27: FEMENINO | D27: SOFÍA | E27: FRANCISCO BARBEITOS | F27: CLUB PATÍN PARLA | G27: =SUM(RIVAS!S23) -> 2 | I27: 2 | L27: =SUM(G27:K27) -> 4
A28: 14 | B28: MINI OPEN | C28: FEMENINO | D28: CARLA | E28: ESTEBAN SERRANO | F28: CLUB PATIN PARLA | I28: 4 | L28: =SUM(G28:K28) -> 4
A29: 15 | B29: MINI OPEN | C29: FEMENINO | D29: DANIELA | E29: SIENES SIENES | F29: CLUB PATÍN PARLA | G29: =SUM(RIVAS!S25) -> 2 | H29: 1 | L29: =SUM(G29:K29) -> 3
A30: 15 | B30: MINI OPEN | C30: FEMENINO | D30: CLAUDIA | E30: PASTOR QUISADA | F30: CLUB PATÍN PARLA | G30: =SUM(RIVAS!S27) -> 1 | I30: 2 | L30: =SUM(G30:K30) -> 3
A31: 16 | B31: MINI OPEN | C31: FEMENINO | D31: EMMA | E31: GOMEZ CASADO | F31: CLUB PATÍN DE ORO | G31: =SUM(RIVAS!S20) -> 2 | L31: =SUM(G31:K31) -> 2
A32: 16 | B32: MINI OPEN | C32: FEMENINO | D32: EMMA | E32: AMBROS NAVARRO | F32: CLUB PATÍN PARLA | G32: =SUM(RIVAS!S22) -> 2 | L32: =SUM(G32:K32) -> 2
A33: 16 | B33: MINI OPEN | C33: FEMENINO | D33: SILVIA | E33: DIEZ MUÑOZ | F33: PATÍN VELOCIDAD RIVAS | G33: =SUM(RIVAS!S26) -> 2 | L33: =SUM(G33:K33) -> 2
A34: 17 | B34: MINI OPEN | C34: FEMENINO | D34: SOPHIE | E34: ARELLANO GONZALEZ | F34: INDEPENDIENTE | H34: 1 | L34: =SUM(G34:K34) -> 1
B36: Categoría | C36: Sexo | D36: Nombre | E36: Apellidos | F36: Club | G36: RIVAS | H36: BURGUILLOS | I36: PARLA | J36: ARGANDA | K36: ALUCHE | L36: TOTAL
A37: 1 | B37: MINI OPEN | C37: MASCULINO | D37: VÍCTOR | E37: GALVÁN GARCÍA | F37: CDP CONSIGUELOTOLEDO | G37: 16 | H37: 20 | I37: 16 | L37: =SUM(G37:K37) -> 52
A38: 2 | B38: MINI OPEN | C38: MASCULINO | D38: NICOLÁS | E38: GARCÍA AMAYA | F38: CLUB PATÍN PARLA | G38: 17 | H38: 9 | I38: 19 | L38: =SUM(G38:K38) -> 45
A39: 3 | B39: MINI OPEN | C39: MASCULINO | D39: DAVID | E39: HERNANDEZ DIAZ | F39: CMP ARGANDA DEL REY | H39: 16 | I39: 15 | L39: =SUM(G39:K39) -> 31
A40: 4 | B40: MINI OPEN | C40: MASCULINO | D40: MARIO | E40: CANILLAS DIAZ | F40: CLUB PATÍN PARLA | G40: 18 | L40: =SUM(G40:K40) -> 18
A41: 4 | B41: MINI OPEN | C41: MASCULINO | D41: DANIEL | E41: VARELA GARCÍA | F41: CLUB PATÍN PARLA | I41: 18 | L41: =SUM(G41:K41) -> 18
A42: 5 | B42: MINI OPEN | C42: MASCULINO | D42: MARIO | E42: CALZADILLA CANO | F42: CLUB PATÍN DE ORO | G42: 17 | L42: =SUM(G42:K42) -> 17
A43: 6 | B43: MINI OPEN | C43: MASCULINO | D43: LEO | E43: RODRÍGUEZ ÁLVAREZ | F43: CLUB PATÍN DE ORO | G43: 12 | L43: =SUM(G43:K43) -> 12
A44: 7 | B44: MINI OPEN | C44: MASCULINO | D44: JAIME | E44: MONTE LEAL | F44: CLUB PATÍN PARLA | I44: 11 | L44: =SUM(G44:K44) -> 11
A45: 7 | B45: MINI OPEN | C45: MASCULINO | D45: AITOR | E45: MUÑOZ MIROSHNICHENKO | F45: CLUB PATÍN DE ORO | I45: 11 | L45: =SUM(G45:K45) -> 11
A46: 8 | B46: MINI OPEN | C46: MASCULINO | D46: MARIO | E46: CANILLAS | F46: CLUB PATÍN PARLA | H46: 8 | L46: =SUM(G46:K46) -> 8
B50: Categoría | C50: Sexo | D50: Nombre | E50: Apellidos | F50: Club | G50: RIVAS | H50: BURGUILLOS | I50: PARLA | J50: ARGANDA | K50: ALUCHE | L50: TOTAL
A51: 1 | B51: PREBENJAMIN OPEN | C51: FEMENINO | D51: LLANOS | E51: FERNANDEZ GARCIA | F51: CLUB PATÍN DE ORO | G51: 17 | H51: 19 | I51: 19 | L51: =SUM(G51:K51) -> 55
A52: 2 | B52: PREBENJAMIN OPEN | C52: FEMENINO | D52: AINARA | E52: ROMÁN LOGROSÁN | F52: CLUB PATÍN PARLA | G52: 4 | H52: 14 | I52: 13 | L52: =SUM(G52:K52) -> 31
A53: 3 | B53: PREBENJAMIN OPEN | C53: FEMENINO | D53: SARA | E53: FERNANDEZ PADILLA | F53: CLUB PATÍN DE ORO | G53: 2 | H53: 17 | I53: 8 | L53: =SUM(G53:K53) -> 27
A54: 4 | B54: PREBENJAMIN OPEN | C54: FEMENINO | D54: CARLOTA | E54: RODRIGUEZ LÓPEZ | F54: CMP ARGANDA DEL REY | G54: 2 | H54: 9 | I54: 15 | L54: =SUM(G54:K54) -> 26
A55: 5 | B55: PREBENJAMIN OPEN | C55: FEMENINO | D55: LAURA | E55: ARGÜELLO KUSZEWSKA | F55: COLEGIO SAN JOSÉ | G55: 14 | H55: 7 | L55: =SUM(G55:K55) -> 21
A56: 6 | B56: PREBENJAMIN OPEN | C56: FEMENINO | D56: MARÍA | E56: BORDONA MEDINA | F56: CLUB PATÍN PARLA | G56: 2 | H56: 5 | I56: 12 | L56: =SUM(G56:K56) -> 19
A57: 7 | B57: PREBENJAMIN OPEN | C57: FEMENINO | D57: VEGA | E57: GONZÁLEZ IZQUIERDO | F57: CLUB PATÍN PARLA | G57: 17 | L57: =SUM(G57:K57) -> 17
A58: 8 | B58: PREBENJAMIN OPEN | C58: FEMENINO | D58: EVA | E58: FERNÁNDEZ OLEA | F58: CLUB PATÍN DE ORO | G58: 2 | H58: 5 | I58: 9 | L58: =SUM(G58:K58) -> 16
A59: 9 | B59: PREBENJAMIN OPEN | C59: FEMENINO | D59: LEIRE | E59: TORRIJOS OTERO | F59: CLUB PATÍN PARLA | G59: 15 | L59: =SUM(G59:K59) -> 15
A60: 10 | B60: PREBENJAMIN OPEN | C60: FEMENINO | D60: ALBA | E60: PINA SOTILLOS | F60: CLUB PATÍN DE ORO | G60: 2 | I60: 12 | L60: =SUM(G60:K60) -> 14
A61: 11 | B61: PREBENJAMIN OPEN | C61: FEMENINO | D61: LUCÍA | E61: VARELA GARCÍA | F61: CLUB PATÍN PARLA | I61: 13 | L61: =SUM(G61:K61) -> 13
A62: 12 | B62: PREBENJAMIN OPEN | C62: FEMENINO | D62: VALERIA | E62: CARNERO GÓMEZ | F62: CMP ARGANDA DEL REY | G62: 12 | L62: =SUM(G62:K62) -> 12
A63: 13 | B63: PREBENJAMIN OPEN | C63: FEMENINO | D63: ISABEL | E63: MANZANARES LEAL | F63: CLUB PATÍN PARLA | G63: 9 | H63: 2 | L63: =SUM(G63:K63) -> 11
A64: 14 | B64: PREBENJAMIN OPEN | C64: FEMENINO | D64: PAULA | E64: GONZALEZ MANZANO | F64: CDP CONSIGUELOTOLEDO | H64: 10 | L64: =SUM(G64:K64) -> 10
A65: 14 | B65: PREBENJAMIN OPEN | C65: FEMENINO | D65: LUCIA | E65: TAMAYO ALONSO | F65: TALAVERA PATINA | H65: 10 | L65: =SUM(G65:K65) -> 10
A66: 15 | B66: PREBENJAMIN OPEN | C66: FEMENINO | D66: EMMA | E66: RODRÍGUEZ ÁLVAREZ | F66: CLUB PATÍN DE ORO | G66: 9 | L66: =SUM(G66:K66) -> 9
A67: 15 | B67: PREBENJAMIN OPEN | C67: FEMENINO | D67: DAPHNE | E67: ALMAGRO MARTÍN | F67: CMP ARGANDA DEL REY | G67: 9 | L67: =SUM(G67:K67) -> 9
A68: 15 | B68: PREBENJAMIN OPEN | C68: FEMENINO | D68: ÁFRICA | E68: CABELLO OLIRENZA | F68: CLUB PATÍN PARLA | G68: 2 | I68: 7 | L68: =SUM(G68:K68) -> 9
A69: 16 | B69: PREBENJAMIN OPEN | C69: FEMENINO | D69: AROA | E69: PARRILLA GALÁN | F69: CLUB PATÍN PARLA | G69: 2 | H69: 6 | L69: =SUM(G69:K69) -> 8
A70: 17 | B70: PREBENJAMIN OPEN | C70: FEMENINO | D70: JANA | E70: RÓDENAS ORDORICA | F70: CLUB PATÍN PARLA | G70: 2 | H70: 4 | L70: =SUM(G70:K70) -> 6
A71: 17 | B71: PREBENJAMIN OPEN | C71: FEMENINO | D71: LUZ DIVINA | E71: ALVAREZ FLURIACHE | F71: CLUB PATÍN PARLA | G71: 2 | H71: 4 | L71: =SUM(G71:K71) -> 6
A72: 17 | B72: PREBENJAMIN OPEN | C72: FEMENINO | D72: SARA | E72: BERTOLO SANCHEZ | F72: CLUB PATÍN PARLA | G72: 2 | H72: 2 | I72: 2 | L72: =SUM(G72:K72) -> 6
A73: 17 | B73: PREBENJAMIN OPEN | C73: FEMENINO | D73: ADHARA | E73: MORA FERNANDEZ | F73: CLUB PATÍN DE ORO | G73: 2 | H73: 2 | I73: 2 | L73: =SUM(G73:K73) -> 6
A74: 18 | B74: PREBENJAMIN OPEN | C74: FEMENINO | D74: SARA | E74: VADILLO JUSTO | F74: CLUB PATÍN DE ORO | G74: 4 | L74: =SUM(G74:K74) -> 4
A75: 18 | B75: PREBENJAMIN OPEN | C75: FEMENINO | D75: AMALIA | E75: MAMBLONA TEPENEU | F75: COLEGIO SAN JOSÉ | G75: 2 | H75: 2 | L75: =SUM(G75:K75) -> 4
A76: 18 | B76: PREBENJAMIN OPEN | C76: FEMENINO | D76: NAOMI | E76: ROMAY ÁLVAREZ | F76: COLEGIO SAN JOSÉ | G76: 2 | H76: 2 | L76: =SUM(G76:K76) -> 4
A77: 18 | B77: PREBENJAMIN OPEN | C77: FEMENINO | D77: GABRIELA | E77: NUÑEZ LEMA | F77: COLEGIO SAN JOSÉ | H77: 4 | L77: =SUM(G77:K77) -> 4
A78: 18 | B78: PREBENJAMIN OPEN | C78: FEMENINO | D78: INDIRA | E78: BLANCO CUESTA | F78: CLUB PATÍN DE ORO | G78: 2 | I78: 2 | L78: =SUM(G78:K78) -> 4
A79: 18 | B79: PREBENJAMIN OPEN | C79: FEMENINO | D79: MARÍA | E79: FUENTES RUBIO | F79: CLUB PATÍN PARLA | G79: 2 | I79: 2 | L79: =SUM(G79:K79) -> 4
A80: 19 | B80: PREBENJAMIN OPEN | C80: FEMENINO | D80: EVA | E80: GARCIA ZARZOSO | F80: CLUB PATÍN PARLA | G80: 2 | L80: =SUM(G80:K80) -> 2
A81: 19 | B81: PREBENJAMIN OPEN | C81: FEMENINO | D81: JULIA | E81: HERRERO FANJUL | F81: CLUB PATÍN DE ORO | G81: 2 | L81: =SUM(G81:K81) -> 2
A82: 19 | B82: PREBENJAMIN OPEN | C82: FEMENINO | D82: NEREA | E82: ESCUDERO BLÁZQUEZ | F82: CLUB PATÍN PARLA | G82: 2 | L82: =SUM(G82:K82) -> 2
A83: 19 | B83: PREBENJAMIN OPEN | C83: FEMENINO | D83: ARIADNA | E83: EZQUERRA LORIGADOS | F83: CLUB PATÍN PARLA | G83: 2 | L83: =SUM(G83:K83) -> 2
A84: 19 | B84: PREBENJAMIN OPEN | C84: FEMENINO | D84: NOA | E84: GARCIA DE LA VIUDA | F84: CLUB PATÍN PARLA | G84: 2 | L84: =SUM(G84:K84) -> 2
A85: 19 | B85: PREBENJAMIN OPEN | C85: FEMENINO | D85: KEIRA | E85: ORTIZ PATRU | F85: CLUB PATÍN PARLA | G85: 2 | L85: =SUM(G85:K85) -> 2
A86: 19 | B86: PREBENJAMIN OPEN | C86: FEMENINO | D86: CARMEN | E86: CORRALES DE LA FUENTE | F86: PATÍN VELOCIDAD RIVAS | G86: 2 | L86: =SUM(G86:K86) -> 2
A87: 19 | B87: PREBENJAMIN OPEN | C87: FEMENINO | D87: LIDIA | E87: DIAZ-PACHE VIRSEDA | F87: COLEGIO SAN JOSÉ | G87: 2 | L87: =SUM(G87:K87) -> 2
A88: 19 | B88: PREBENJAMIN OPEN | C88: FEMENINO | D88: VERÓNICA | E88: FREIRE BODAS | F88: PATÍN VELOCIDAD RIVAS | G88: 2 | L88: =SUM(G88:K88) -> 2
A89: 19 | B89: PREBENJAMIN OPEN | C89: FEMENINO | D89: SOFÍA | E89: PEINADO COSANO | F89: PATÍN VELOCIDAD RIVAS | G89: 2 | L89: =SUM(G89:K89) -> 2
A90: 19 | B90: PREBENJAMIN OPEN | C90: FEMENINO | D90: SHEILA | E90: MÖHLER ALDIR | F90: CLUB PATÍN PARLA | G90: 2 | L90: =SUM(G90:K90) -> 2
A91: 19 | B91: PREBENJAMIN OPEN | C91: FEMENINO | D91: SOFÍA | E91: MARTIN MONTES | F91: CMP ARGANDA DEL REY | G91: 2 | L91: =SUM(G91:K91) -> 2
A92: 19 | B92: PREBENJAMIN OPEN | C92: FEMENINO | D92: IRENE | E92: DIAZ-CARRALERO JIMENEZ | F92: CDP CONSIGUELOTOLEDO | H92: 2 | L92: =SUM(G92:K92) -> 2
A93: 19 | B93: PREBENJAMIN OPEN | C93: FEMENINO | D93: AINARA | E93: CUEVAS ALGORA | F93: CLUB PATÍN PARLA | H93: 2 | L93: =SUM(G93:K93) -> 2
A94: 19 | B94: PREBENJAMIN OPEN | C94: FEMENINO | D94: NAYRA | E94: MUÑOZ FRAILE | F94: COLEGIO SAN JOSÉ | H94: 2 | L94: =SUM(G94:K94) -> 2
A95: 19 | B95: PREBENJAMIN OPEN | C95: FEMENINO | D95: VALERIA | E95: RAMIREZ | F95: CLUB PATÍN PARLA | H95: 2 | L95: =SUM(G95:K95) -> 2
A96: 19 | B96: PREBENJAMIN OPEN | C96: FEMENINO | D96: DANA | E96: BLANCO CUESTA | F96: CLUB PATÍN DE ORO | I96: 2 | L96: =SUM(G96:K96) -> 2
B99: Categoría | C99: Sexo | D99: Nombre | E99: Apellidos | F99: Club | G99: RIVAS | H99: BURGUILLOS | I99: PARLA | J99: ARGANDA | K99: ALUCHE | L99: TOTAL
A100: 1 | B100: PREBENJAMIN OPEN | C100: MASCULINO | D100: PABLO | E100: GIRIGAN | F100: CMP ARGANDA DEL REY | G100: 17 | H100: 17 | I100: 17 | L100: =SUM(G100:K100) -> 51
A101: 1 | B101: PREBENJAMIN OPEN | C101: MASCULINO | D101: NICOLÁS | E101: GILABERT BUSQUET | F101: PATÍN VELOCIDAD RIVAS | G101: 14 | H101: 18 | I101: 19 | L101: =SUM(G101:K101) -> 51
A102: 2 | B102: PREBENJAMIN OPEN | C102: MASCULINO | D102: MATEO | E102: GALVÁN GARCÍA | F102: CDP CONSIGUELOTOLEDO | G102: 11 | H102: 18 | I102: 16 | L102: =SUM(G102:K102) -> 45
A103: 3 | B103: PREBENJAMIN OPEN | C103: MASCULINO | D103: RAFAEL | E103: RODRIGUEZ DE PEDRO | F103: CMP ARGANDA DEL REY | G103: 14 | H103: 11 | I103: 10 | L103: =SUM(G103:K103) -> 35
A104: 4 | B104: PREBENJAMIN OPEN | C104: MASCULINO | D104: FERNANDO | E104: GARCIA PINTUS | F104: CLUB PATÍN DE ORO | G104: 18 | I104: 12 | L104: =SUM(G104:K104) -> 30
A105: 4 | B105: PREBENJAMIN OPEN | C105: MASCULINO | D105: AARÓN | E105: DÍAZ-MECO GÓMEZ | F105: CDP CONSIGUELOTOLEDO | G105: 10 | H105: 8 | I105: 12 | L105: =SUM(G105:K105) -> 30
A106: 5 | B106: PREBENJAMIN OPEN | C106: MASCULINO | D106: MATIAS | E106: GARCÍA SAVANI | F106: CLUB PATÍN PARLA | G106: 9 | I106: 10 | L106: =SUM(G106:K106) -> 19
A107: 5 | B107: PREBENJAMIN OPEN | C107: MASCULINO | D107: ANGEL | E107: SANCHEZ RODRIGUEZ | F107: CLUB PATÍN PARLA | H107: 9 | I107: 10 | L107: =SUM(G107:K107) -> 19
A108: 6 | B108: PREBENJAMIN OPEN | C108: MASCULINO | D108: ANGEL | E108: ACEVEDO GOMEZ | F108: CDP CONSIGUELOTOLEDO | H108: 15 | L108: =SUM(G108:K108) -> 15
A109: 7 | B109: PREBENJAMIN OPEN | C109: MASCULINO | D109: MARCOS | E109: GOMEZ CASADO | F109: CLUB PATÍN DE ORO | G109: 12 | L109: =SUM(G109:K109) -> 12
A110: 8 | B110: PREBENJAMIN OPEN | C110: MASCULINO | D110: MANUEL | E110: GARCÍA ANGELINA | F110: CLUB PATÍN PARLA | G110: 1 | H110: 4 | L110: =SUM(G110:K110) -> 5
...
