Workbook
Name INSCRITOS: #REF!

Sheet RIVAS
C2: I LIGA CENTRO
C3: 1ª Jornada - Rivas
C4: 23 de febrero de 2019
D7: Nº | H7: Jornada 1- Rivas | J7: Jornada 2 | L7: Jornada 3 | N7: Jornada 4 | P7: Jornada 5
B8: Categoría | C8: Sexo | D8: Dorsal | E8: Nombre | F8: Apellidos | G8: Club | H8: Prueba 1 - Obstáculos | I8: Prueba 2 - 200m | J8: Prueba 1 | K8: Prueba 2 | L8: Prueba 1 | M8: Prueba 2 | N8: Prueba 1 | O8: Prueba 2 | P8: Prueba 1 | Q8: Prueba 2 | R8: PUNT. ADD. | S8: TOTAL | T8: Clasificación | W8: Comentarios: Dorsal A15 no aparece como que corrió en la prueba 1
B9: MINI OPEN | C9: FEMENINO | D9: A1 | E9: MAIALEN | F9: BENITO UGARTE | G9: CDP CONSIGUELOTOLEDO | H9: 8 | I9: 9 | S9: =SUM(H9:R9) -> 17 | T9: 1
B10: MINI OPEN | C10: FEMENINO | D10: A14 | E10: JIMENA | F10: PASCUA RODRÍGUEZ | G10: CLUB PATÍN PARLA | H10: 10 | I10: 6 | S10: =SUM(H10:R10) -> 16 | T10: 2
B11: MINI OPEN | C11: FEMENINO | D11: A8 | E11: VIRGINIA | F11: BARRAGAN MENDEZ | G11: CLUB PATÍN PARLA | H11: 7 | I11: 8 | S11: =SUM(H11:R11) -> 15 | T11: 3
B12: MINI OPEN | C12: FEMENINO | D12: A13 | E12: AROA | F12: ORTIZ GARCÍA | G12: CLUB PATÍN PARLA | H12: 9 | I12: 5 | S12: =SUM(H12:R12) -> 14 | T12: 4
B13: MINI OPEN | C13: FEMENINO | D13: A17 | E13: CLAUDIA | F13: SENDIN PETRONILA | G13: CLUB PATÍN PARLA | H13: 6 | I13: 7 | S13: =SUM(H13:R13) -> 13 | T13: 5
B14: MINI OPEN | C14: FEMENINO | D14: A10 | E14: CARLA | F14: GARCÍA ÁLVAREZ | G14: CLUB PATÍN PARLA | H14: 1 | I14: 10 | S14: =SUM(H14:R14) -> 11 | T14: 6
B15: MINI OPEN | C15: FEMENINO | D15: A19 | E15: OLIVIA | F15: SIMON MONTERO | G15: CLUB PATÍN PARLA | H15: 4 | I15: 3 | S15: =SUM(H15:R15) -> 7 | T15: 8
B16: MINI OPEN | C16: FEMENINO | D16: A4 | E16: MATILDE | F16: GÓMEZ NIETO | G16: CLUB PATÍN DE ORO | H16: 5 | I16: 4 | S16: =SUM(H16:R16) -> 9 | T16: 7
B17: MINI OPEN | C17: FEMENINO | D17: A16 | E17: NEREA | F17: RODRIGUEZ RUBIO | G17: CLUB PATÍN PARLA | H17: 2 | I17: 2 | S17: =SUM(H17:R17) -> 4 | T17: 8
B18: MINI OPEN | C18: FEMENINO | D18: A2 | E18: LUCIA | F18: ARROYO REDONDO | G18: CLUB PATÍN DE ORO | H18: 3 | I18: 1 | S18: =SUM(H18:R18) -> 4 | T18: 9
B19: MINI OPEN | C19: FEMENINO | D19: A5 | E19: ARIADNA | F19: RIVERA NEIRA | G19: CLUB PATÍN DE ORO | H19: 1 | I19: 1 | S19: =SUM(H19:R19) -> 2 | T19: 10
B20: MINI OPEN | C20: FEMENINO | D20: A3 | E20: EMMA | F20: GOMEZ CASADO | G20: CLUB PATÍN DE ORO | H20: 1 | I20: 1 | S20: =SUM(H20:R20) -> 2 | T20: 10
... B26: MINI OPEN | C26: FEMENINO | D26: A20 | E26: SILVIA | F26: DIEZ MUÑOZ | G26: PATÍN VELOCIDAD RIVAS | H26: 1 | I26: 1 | S26: =SUM(H26:R26) -> 2 | T26: 10
B27: MINI OPEN | C27: FEMENINO | D27: A15 | E27: CLAUDIA | F27: PASTOR QUISADA | G27: CLUB PATÍN PARLA | I27: 1 | S27: =SUM(H27:R27) -> 1 | T27: 19
B28: MINI OPEN | C28: FEMENINO | D28: A11 | E28: AYLA | F28: MACIAS ROJO | G28: CLUB PATÍN PARLA
D31: Nº | H31: Jornada 1- Rivas | J31: Jornada 2 | L31: Jornada 3 | N31: Jornada 4 | P31: Jornada 5
B32: Categoría | C32: Sexo | D32: Dorsal | E32: Nombre | F32: Apellidos | G32: Club | H32: Prueba 1 - Obstáculos | I32: Prueba 2 - 200m | J32: Prueba 1 | K32: Prueba 2 | L32: Prueba 1 | M32: Prueba 2 | N32: Prueba 1 | O32: Prueba 2 | P32: Prueba 1 | Q32: Prueba 2 | R32: PUNT. ADD. | S32: TOTAL | T32: Clasificación
B33: MINI OPEN | C33: MASCULINO | D33: A26 | E33: MARIO | F33: CANILLAS DIAZ | G33: CLUB PATÍN PARLA | H33: 10 | I33: 8 | S33: =SUM(H33:R33) -> 18 | T33: 1
B34: MINI OPEN | C34: MASCULINO | D34: A22 | E34: MARIO | F34: CALZADILLA CANO | G34: CLUB PATÍN DE ORO | H34: 7 | I34: 10 | S34: =SUM(H34:R34) -> 17 | T34: 2
B35: MINI OPEN | C35: MASCULINO | D35: A27 | E35: NICOLÁS | F35: GARCÍA AMAYA | G35: CLUB PATÍN PARLA | H35: 8 | I35: 9 | S35: =SUM(H35:R35) -> 17 | T35: 3
B36: MINI OPEN | C36: MASCULINO | D36: A21 | E36: VÍCTOR | F36: GALVÁN GARCÍA | G36: CDP CONSIGUELOTOLEDO | H36: 9 | I36: 7 | S36: =SUM(H36:R36) -> 16 | T36: 4
B37: MINI OPEN | C37: MASCULINO | D37: A25 | E37: LEO | F37: RODRÍGUEZ ÁLVAREZ | G37: CLUB PATÍN DE ORO | H37: 6 | I37: 6 | S37: =SUM(H37:R37) -> 12 | T37: 5
B38: MINI OPEN | C38: MASCULINO | D38: A23 | E38: LUCAS | F38: MARINA GARCÍA | G38: CLUB PATÍN DE ORO
B39: MINI OPEN | C39: MASCULINO | D39: A24 | E39: GERONIMO | F39: REY ROJAS | G39: CLUB PATÍN DE ORO
B40: MINI OPEN | C40: MASCULINO | D40: A28 | E40: JAIME | F40: MONTE LEAL | G40: CLUB PATÍN PARLA
D45: Nº | H45: Jornada 1- Rivas | J45: Jornada 2 | L45: Jornada 3 | N45: Jornada 4 | P45: Jornada 5
B46: Categoría | C46: Sexo | D46: Dorsal | E46: Nombre | F46: Apellidos | G46: Club | H46: Prueba 1 - Obstáculos | I46: Prueba 2 - 300m | J46: Prueba 1 | K46: Prueba 2 | L46: Prueba 1 | M46: Prueba 2 | N46: Prueba 1 | O46: Prueba 2 | P46: Prueba 1 | Q46: Prueba 2 | R46: PUNT. ADD. | S46: TOTAL | T46: Clasificación | W46: Comentarios: En la segunda carrerase ha seguido el orden de los apuntes de Yolanda. Hay dudas sobre las niñas que están con fondo en amarillo sobre si participaron o no, ya que no hay constancia en las actas manuales.
B47: PREBENJAMIN OPEN | C47: FEMENINO | D47: A46 | E47: VEGA | F47: GONZÁLEZ IZQUIERDO | G47: CLUB PATÍN PARLA | H47: 7 | I47: 10 | S47: =SUM(H47:R47) -> 17 | T47: 1
B48: PREBENJAMIN OPEN | C48: FEMENINO | D48: A30 | E48: LLANOS | F48: FERNANDEZ GARCIA | G48: CLUB PATÍN DE ORO | H48: 10 | I48: 7 | S48: =SUM(H48:R48) -> 17 | T48: 2
B49: PREBENJAMIN OPEN | C49: FEMENINO | D49: A53 | E49: LEIRE | F49: TORRIJOS OTERO | G49: CLUB PATÍN PARLA | H49: 6 | I49: 9 | S49: =SUM(H49:R49) -> 15 | T49: 3
B50: PREBENJAMIN OPEN | C50: FEMENINO | D50: A58 | E50: LAURA | F50: ARGÜELLO KUSZEWSKA | G50: COLEGIO SAN JOSÉ | H50: 8 | I50: 6 | S50: =SUM(H50:R50) -> 14 | T50: 4
B51: PREBENJAMIN OPEN | C51: FEMENINO | D51: A55 | E51: VALERIA | F51: CARNERO GÓMEZ | G51: CMP ARGANDA DEL REY | H51: 9 | I51: 3 | S51: =SUM(H51:R51) -> 12 | T51: 5
B52: PREBENJAMIN OPEN | C52: FEMENINO | D52: A47 | E52: ISABEL | F52: MANZANARES LEAL | G52: CLUB PATÍN PARLA | H52: 1 | I52: 8 | S52: =SUM(H52:R52) -> 9 | T52: 6
B53: PREBENJAMIN OPEN | C53: FEMENINO | D53: A35 | E53: EMMA | F53: RODRÍGUEZ ÁLVAREZ | G53: CLUB PATÍN DE ORO | H53: 4 | I53: 5 | S53: =SUM(H53:R53) -> 9 | T53: 7
B54: PREBENJAMIN OPEN | C54: FEMENINO | D54: A54 | E54: DAPHNE | F54: ALMAGRO MARTÍN | G54: CMP ARGANDA DEL REY | H54: 5 | I54: 4 | S54: =SUM(H54:R54) -> 9 | T54: 8
...

Sheet TOLEDO
C2: I LIGA CENTRO
C3: 2ª Jornada - Burguillos de Toledo (Toledo)
C4: 7 de abril de 2019
D7: Nº | H7: Jornada 2- Burguillos | J7: Jornada 2 | L7: Jornada 3 | N7: Jornada 4 | P7: Jornada 5
B8: Categoría | C8: Sexo | D8: Dorsal | E8: Nombre | F8: Apellidos | G8: Club | H8: P. 1 - 2 v. + chican | I8: TIEMPO | J8: Prueba 1 | K8: Prueba 2 | L8: Prueba 1 | M8: Prueba 2 | N8: Prueba 1 | O8: Prueba 2 | P8: Prueba 1 | Q8: Prueba 2 | R8: P.2 - 3 vueltas | S8: TIEMPO | T8: TOTAL | U8: Clasificación
B9: MINI OPEN | C9: FEMENINO | D9: A1 | E9: MAIALEN | F9: BENITO UGARTE | G9: CDP CONSIGUELOTOLEDO | H9: 10 | I9: 47624 | R9: 10 | S9: 1.06.383 | T9: =SUM(H9,R9) -> 20 | U9: 1
B10: MINI OPEN | C10: FEMENINO | D10: A10 | E10: CARLA | F10: GARCÍA ÁLVAREZ | G10: CLUB PATÍN PARLA | H10: 9 | I10: 49950 | R10: 8 | S10: 1.15.093 | T10: =SUM(H10,R10) -> 17 | U10: 2
B11: MINI OPEN | C11: FEMENINO | D11: A17 | E11: CLAUDIA | F11: SENDIN PETRONILA | G11: CLUB PATÍN PARLA | H11: 7 | I11: 52348 | R11: 9 | S11: 1.09.034 | T11: =SUM(H11,R11) -> 16 | U11: 3
B12: MINI OPEN | C12: FEMENINO | D12: A13 | E12: AROA | F12: ORTIZ GARCÍA | G12: CLUB PATÍN PARLA | H12: 6 | I12: 52747 | R12: 6 | S12: 1.15.671 | T12: =SUM(H12,R12) -> 12 | U12: 4
B13: MINI OPEN | C13: FEMENINO | D13: A18 | E13: OLIVIA | F13: SIMON MONTERO | G13: CLUB PATÍN PARLA | H13: 8 | I13: 51067 | R13: 1 | S13: 1.47.419 | T13: =SUM(H13,R13) -> 9 | U13: 5
B14: MINI OPEN | C14: FEMENINO | D14: A15 | E14: NEREA | F14: ESCUDERO ASENSIO | G14: CDP CONSIGUELOTOLEDO | H14: 3 | I14: 1.01.227 | R14: 4 | S14: 1.19.614 | T14: =SUM(H14,R14) -> 7 | U14: 6
B15: MINI OPEN | C15: FEMENINO | D15: A12 | E15: LEIRE | F15: MÉNDEZ SUAREZ | G15: CLUB PATÍN PARLA | H15: 5 | I15: 57303 | R15: 1 | S15: 1.27.721 | T15: =SUM(H15,R15) -> 6 | U15: 7
B16: MINI OPEN | C16: FEMENINO | D16: A6 | E16: LUCÍA | F16: ALMODÓVAR IZQUIERDO | G16: CLUB PATÍN PARLA | H16: 1 | I16: 1.01.897 | R16: 5 | S16: 1.19.342 | T16: =SUM(H16,R16) -> 6 | U16: 7
B17: MINI OPEN | C17: FEMENINO | D17: A5 | E17: MARIA | F17: SERENA CRESPO | G17: CLUB PATÍN PARLA | H17: 4 | I17: 59825 | R17: 1 | S17: 1.35.132 | T17: =SUM(H17,R17) -> 5 | U17: 9
B18: MINI OPEN | C18: FEMENINO | D18: A7 | E18: MARIA | F18: MARTIN GARCIA | G18: CLUB PATÍN PARLA | H18: 2 | I18: 1.01.706 | R18: 2 | S18: 1.25.950 | T18: =SUM(H18,R18) -> 4 | U18: 10
B19: MINI OPEN | C19: FEMENINO | D19: A11 | E19: AYLA | F19: MACIAS ROJO | G19: CLUB PATÍN PARLA | H19: 1 | I19: 1.02.552 | R19: 3 | S19: 1.25.544 | T19: =SUM(H19,R19) -> 4 | U19: 10
B20: MINI OPEN | C20: FEMENINO | D20: A9 | E20: SOPHIE | F20: ARELLANO GONZALEZ | G20: INDEPENDIENTE | H20: 1 | I20: 1.13.370 | R20: NP | T20: =SUM(H20,R20) -> 1 | U20: 12
B21: MINI OPEN | C21: FEMENINO | D21: A32 | E21: DANIELA | F21: SIENES SIENES | G21: CLUB PATÍN PARLA | H21: 1 | I21: 1.42.157 | R21: NP | T21: =SUM(H21,R21) -> 1 | U21: 12
D24: Nº | H24: Jornada 2- Burguillos | J24: Jornada 2 | L24: Jornada 3 | N24: Jornada 4 | P24: Jornada 5
B25: Categoría | C25: Sexo | D25: Dorsal | E25: Nombre | F25: Apellidos | G25: Club | H25: P. 1 - 2 v. + chican | I25: TIEMPO | J25: Prueba 1 | K25: Prueba 2 | L25: Prueba 1 | M25: Prueba 2 | N25: Prueba 1 | O25: Prueba 2 | P25: Prueba 1 | Q25: Prueba 2 | R25: P.2 - 3 vueltas | S25: TIEMPO | T25: TOTAL | U25: Clasificación
B26: MINI OPEN | C26: MASCULINO | D26: A21 | E26: VÍCTOR | F26: GALVÁN GARCÍA | G26: CDP CONSIGUELOTOLEDO | H26: 10 | I26: 49220 | R26: 10 | S26: 1.12.340 | T26: =SUM(H26,R26) -> 20 | U26: 1
B27: MINI OPEN | C27: MASCULINO | D27: A25 | E27: DAVID | F27: HERNANDEZ DIAZ | G27: CMP ARGANDA DEL REY | H27: 7 | I27: 1.06.428 | R27: 9 | S27: 1.43.171 | T27: =SUM(H27,R27) -> 16 | U27: 2
B28: MINI OPEN | C28: MASCULINO | D28: A27 | E28: NICOLÁS | F28: GARCÍA AMAYA | G28: CLUB PATÍN PARLA | H28: 9 | I28: 51903 | R28: DSQ | T28: =SUM(H28,R28) -> 9 | U28: 3
B29: MINI OPEN | C29: MASCULINO | D29: A53 | E29: MARIO | F29: CANILLAS | G29: CLUB PATÍN PARLA | H29: 8 | I29: 53546 | R29: DSQ | T29: =SUM(H29,R29) -> 8 | U29: 4
D32: Nº | H32: Jornada 2- Burguillos | J32: Jornada 2 | L32: Jornada 3 | N32: Jornada 4 | P32: Jornada 5
B33: Categoría | C33: Sexo | D33: Dorsal | E33: Nombre | F33: Apellidos | G33: Club | H33: P. 1 - 3 v. + chican | I33: TIEMPO | J33: Prueba 1 | K33: Prueba 2 | L33: Prueba 1 | M33: Prueba 2 | N33: Prueba 1 | O33: Prueba 2 | P33: Prueba 1 | Q33: Prueba 2 | R33: P.2 - 4 vueltas | S33: TIEMPO | T33: TOTAL | U33: Clasificación
B34: PREBENJAMIN OPEN | C34: FEMENINO | D34: A30 | E34: LLANOS | F34: FERNANDEZ GARCIA | G34: CLUB PATÍN DE ORO | H34: 10 | I34: 52909 | R34: 9 | S34: 1.06.613 | T34: =SUM(H34,R34) -> 19 | U34: 1
B35: PREBENJAMIN OPEN | C35: FEMENINO | D35: A35 | E35: SARA | F35: FERNANDEZ PADILLA | G35: CLUB PATÍN DE ORO | H35: 9 | I35: 58713 | R35: 8 | S35: 1.14.657 | T35: =SUM(H35,R35) -> 17 | U35: 2
B36: PREBENJAMIN OPEN | C36: FEMENINO | D36: A52 | E36: AINARA | F36: ROMÁN LOGROSÁN | G36: CLUB PATÍN PARLA | H36: 7 | I36: 1.01.415 | R36: 7 | S36: 1.15.071 | T36: =SUM(H36,R36) -> 14 | U36: 3
B37: PREBENJAMIN OPEN | C37: FEMENINO | D37: A55 | E37: PAULA | F37: GONZALEZ MANZANO | G37: CDP CONSIGUELOTOLEDO | H37: 5 | I37: 1.02.645 | R37: 5 | S37: 1.15.895 | T37: =SUM(H37,R37) -> 10 | U37: 4
B38: PREBENJAMIN OPEN | C38: FEMENINO | D38: A54 | E38: LUCIA | F38: TAMAYO ALONSO | G38: TALAVERA PATINA | H38: DSQ | R38: 10 | S38: 1.06.372 | T38: =SUM(H38,R38) -> 10 | U38: 4
B39: PREBENJAMIN OPEN | C39: FEMENINO | D39: A57 | E39: CARLOTA | F39: RODRIGUEZ LÓPEZ | G39: CMP ARGANDA DEL REY | H39: 8 | I39: 59471 | R39: 1 | S39: 1.21.114 | T39: =SUM(H39,R39) -> 9 | U39: 6
B40: PREBENJAMIN OPEN | C40: FEMENINO | D40: A58 | E40: LAURA | F40: ARGÜELLO KUSZEWSKA | G40: COLEGIO SAN JOSÉ | H40: 6 | I40: 1.01.665 | R40: 1 | S40: 1.21.509 | T40: =SUM(H40,R40) -> 7 | U40: 7
B41: PREBENJAMIN OPEN | C41: FEMENINO | D41: A50 | E41: AROA | F41: PARRILLA GALÁN | G41: CLUB PATÍN PARLA | H41: NP | R41: 6 | S41: 1.15.718 | T41: =SUM(H41,R41) -> 6 | U41: 8
B42: PREBENJAMIN OPEN | C42: FEMENINO | D42: A39 | E42: MARÍA | F42: BORDONA MEDINA | G42: CLUB PATÍN PARLA | H42: 4 | I42: 1.03.024 | R42: 1 | S42: 1.19.920 | T42: =SUM(H42,R42) -> 5 | U42: 9
B43: PREBENJAMIN OPEN | C43: FEMENINO | D43: A31 | E43: EVA | F43: FERNÁNDEZ OLEA | G43: CLUB PATÍN DE ORO | H43: 1 | I43: 1.09.794 | R43: 4 | S43: 1.16.432 | T43: =SUM(H43,R43) -> 5 | U43: 9
B44: PREBENJAMIN OPEN | C44: FEMENINO | D44: A51 | E44: JANA | F44: RÓDENAS ORDORICA | G44: CLUB PATÍN PARLA | H44: 3 | I44: 1.03.385 | R44: 1 | S44: 1.20.252 | T44: =SUM(H44,R44) -> 4 | U44: 11
B45: PREBENJAMIN OPEN | C45: FEMENINO | D45: A43 | E45: GABRIELA | F45: NUÑEZ LEMA | G45: COLEGIO SAN JOSÉ | H45: 2 | I45: 1.04.362 | R45: 2 | S45: 1.19.696 | T45: =SUM(H45,R45) -> 4 | U45: 11
B46: PREBENJAMIN OPEN | C46: FEMENINO | D46: A37 | E46: LUZ DIVINA | F46: ALVAREZ FLURIACHE | G46: CLUB PATÍN PARLA | H46: 1 | I46: 1.04.450 | R46: 3 | S46: 1.17.522 | T46: =SUM(H46,R46) -> 4 | U46: 11
B47: PREBENJAMIN OPEN | C47: FEMENINO | D47: A48 | E47: IRENE | F47: DIAZ-CARRALERO JIMENEZ | G47: CDP CONSIGUELOTOLEDO | H47: 1 | I47: 1.06.833 | R47: 1 | S47: 1.20.660 | T47: =SUM(H47,R47) -> 2 | U47: 14
...

Sheet PARLA
C2: I LIGA CENTRO
C3: 3ª Jornada - Parla
C4: 14 de abril de 2019
D7: Nº | H7: Jornada 3 Parla | J7: Jornada 2 | L7: Jornada 3 | N7: Jornada 4 | P7: Jornada 5
B8: Categoría | C8: Sexo | D8: Dorsal | E8: Nombre | F8: Apellidos | G8: Club | H8: Prueba 1 - Obstáculos (SERIES) | I8: Prueba 2 - 180m (SERIES) | J8: Prueba 1 | K8: Prueba 2 | L8: Prueba 1 | M8: Prueba 2 | N8: Prueba 1 | O8: Prueba 2 | P8: Prueba 1 | Q8: Prueba 2 | R8: TOTAL | S8: Clasificación
B9: MINI OPEN | C9: FEMENINO | D9: A14 | E9: JIMENA | F9: PASCUA RODRÍGUEZ | G9: CLUB PATÍN PARLA | H9: 10 | I9: 9 | R9: =H9+I9 -> 19 | S9: 1
B10: MINI OPEN | C10: FEMENINO | D10: A1 | E10: MAIALEN | F10: BENITO UGARTE | G10: CDP CONSIGUELOTOLEDO | H10: 9 | I10: 7 | R10: =H10+I10 -> 16 | S10: 2
B11: MINI OPEN | C11: FEMENINO | D11: A8 | E11: VIRGINIA | F11: BARRAGÁN MÉNDEZ | G11: CLUB PATÍN PARLA | H11: 5 | I11: 10 | R11: =H11+I11 -> 15 | S11: 3
B12: MINI OPEN | C12: FEMENINO | D12: A17 | E12: CLAUDIA | F12: SENDIN PETRONILA | G12: CLUB PATÍN PARLA | H12: 7 | I12: 8 | R12: =H12+I12 -> 15 | S12: 4
B13: MINI OPEN | C13: FEMENINO | D13: 46 | E13: AROA | F13: ORTÍZ GARCÍA | G13: CLUB PATÍN PARLA | H13: 8 | I13: 3 | R13: =H13+I13 -> 11 | S13: 5
B14: MINI OPEN | C14: FEMENINO | D14: A19 | E14: OLIVIA | F14: SIMON MONTERO | G14: CLUB PATÍN PARLA | H14: 3 | I14: 6 | R14: =H14+I14 -> 9 | S14: 6
B15: MINI OPEN | C15: FEMENINO | D15: A6 | E15: LUCÍA | F15: ALMODÓVAR IZQUIERDO | G15: CLUB PATÍN PARLA | H15: 3 | I15: 5 | R15: =H15+I15 -> 8 | S15: 7
B16: MINI OPEN | C16: FEMENINO | D16: A10 | E16: MARIA | F16: SERENA CRESPO | G16: CLUB PATÍN PARLA | H16: 6 | I16: 1 | R16: =H16+I16 -> 7 | S16: 8
B17: MINI OPEN | C17: FEMENINO | D17: 47 | E17: CARLA | F17: PALOMINO CONTRERAS | G17: CLUB PATÍN PARLA | H17: 3 | I17: 3 | R17: =H17+I17 -> 6 | S17: 9
B18: MINI OPEN | C18: FEMENINO | D18: 80 | E18: CARLA | F18: ESTEBAN SERRANO | G18: CLUB PATÍN PARLA | H18: 1 | I18: 3 | R18: =H18+I18 -> 4 | S18: 10
B19: MINI OPEN | C19: FEMENINO | D19: A11 | E19: AYLA | F19: MACÍAS ROJO | G19: CLUB PATÍN PARLA | H19: 1 | I19: 1 | R19: =H19+I19 -> 2 | S19: 11
B20: MINI OPEN | C20: FEMENINO | D20: A5 | E20: ARIADNA | F20: RIVERA NEIRA | G20: CLUB PATIN DE ORO | H20: 1 | I20: 1 | R20: =H20+I20 -> 2 | S20: 11
B21: MINI OPEN | C21: FEMENINO | D21: A12 | E21: LEIRE | F21: MÉNDEZ SUÁREZ | G21: CLUB PATÍN PARLA | H21: 1 | I21: 1 | R21: =H21+I21 -> 2 | S21: 11
B22: MINI OPEN | C22: FEMENINO | D22: A15 | E22: CLAUDIA | F22: PASTOR QUIJADA | G22: CLUB PATÍN PARLA | H22: 1 | I22: 1 | R22: =H22+I22 -> 2 | S22: 11
B23: MINI OPEN | C23: FEMENINO | D23: A7 | E23: MARÍA | F23: MARTÍN GARCÍA | G23: CLUB PATÍN PARLA | H23: 1 | I23: 1 | R23: =H23+I23 -> 2 | S23: 11
B24: MINI OPEN | C24: FEMENINO | D24: A9 | E24: SOFÍA | F24: FRANCISCO BARBEIROS | G24: CLUB PATÍN PARLA | H24: 1 | I24: 1 | R24: =H24+I24 -> 2 | S24: 11
H25: VER COMENTARIO | I25: VER COMENTARIO
D28: Nº | H28: Jornada 3 Parla | J28: Jornada 2 | L28: Jornada 3 | N28: Jornada 4 | P28: Jornada 5
B29: Categoría | C29: Sexo | D29: Dorsal | E29: Nombre | F29: Apellidos | G29: Club | H29: Prueba 1 - Obstáculos (SERIES) | I29: Prueba 2 - 180m (SERIES) | J29: Prueba 1 | K29: Prueba 2 | L29: Prueba 1 | M29: Prueba 2 | N29: Prueba 1 | O29: Prueba 2 | P29: Prueba 1 | Q29: Prueba 2 | R29: TOTAL | S29: Clasificación
B30: MINI OPEN | C30: MASCULINO | D30: A27 | E30: NICOLÁS | F30: GARCÍA AMAYA | G30: CLUB PATIN PARLA | H30: 9 | I30: 10 | R30: =H30+I30 -> 19 | S30: 1
B31: MINI OPEN | C31: MASCULINO | D31: 83 | E31: DANIEL | F31: VARELA GARCÍA | G31: CLUB PATIN PARLA | H31: 10 | I31: 8 | R31: =H31+I31 -> 18 | S31: 2
B32: MINI OPEN | C32: MASCULINO | D32: A21 | E32: VÍCTOR | F32: GALVÁN GARCÍA | G32: CONSIGUELOTOLEDO | H32: 7 | I32: 9 | R32: =H32+I32 -> 16 | S32: 3
B33: MINI OPEN | C33: MASCULINO | D33: A25 | E33: DAVID | F33: HERNANDEZ DIAZ | G33: CMP ARGANDA DEL REY | H33: 8 | I33: 7 | R33: =H33+I33 -> 15 | S33: 4
B34: MINI OPEN | C34: MASCULINO | D34: A28 | E34: JAIME | F34: MONTE LEAL | G34: CLUB PATIN PARLA | H34: 5 | I34: 6 | R34: =H34+I34 -> 11 | S34: 5
B35: MINI OPEN | C35: MASCULINO | D35: 95 | E35: AITOR | F35: MUÑOZ MIROSHNICHENKO | G35: CLUB PATIN DE ORO | H35: 6 | I35: 5 | R35: =H35+I35 -> 11 | S35: 5
D38: Nº | H38: Jornada 3 Parla | J38: Jornada 2 | L38: Jornada 3 | N38: Jornada 4 | P38: Jornada 5
B39: Categoría | C39: Sexo | D39: Dorsal | E39: Nombre | F39: Apellidos | G39: Club | H39: Prueba 1 - Obstáculos (SERIES) | I39: Prueba 2 - 1 1VUELTA 365m (SERIES) | J39: Prueba 1 | K39: Prueba 2 | L39: Prueba 1 | M39: Prueba 2 | N39: Prueba 1 | O39: Prueba 2 | P39: Prueba 1 | Q39: Prueba 2 | R39: TOTAL | S39: Clasificación
B40: PREBENJAMIN OPEN | C40: FEMENINO | D40: A30 | E40: LLANOS | F40: FERNADEZ GARCIA | G40: CLUB PATIN DE ORO | H40: 10 | I40: 9 | R40: =H40+I40 -> 19 | S40: 1
B41: PREBENJAMIN OPEN | C41: FEMENINO | D41: A57 | E41: CARLOTA | F41: RODRÍGUEZ LÓPEZ | G41: CMP ARGANDA DEL REY | H41: 5 | I41: 10 | R41: =H41+I41 -> 15 | S41: 2
B42: PREBENJAMIN OPEN | C42: FEMENINO | D42: 13 | E42: LUCÍA | F42: VARELA GARCÍA | G42: CLUB PATIN PARLA | H42: 9 | I42: 4 | R42: =H42+I42 -> 13 | S42: 3
B43: PREBENJAMIN OPEN | C43: FEMENINO | D43: A52 | E43: AINARA | F43: ROMÁN LOGROSÁN | G43: CLUB PATIN PARLA | H43: 7 | I43: 6 | R43: =H43+I43 -> 13 | S43: 3
B44: PREBENJAMIN OPEN | C44: FEMENINO | D44: A39 | E44: MARÍA | F44: BORDONA MEDINA | G44: CLUB PATIN PARLA | H44: 8 | I44: 4 | R44: =H44+I44 -> 12 | S44: 4
B45: PREBENJAMIN OPEN | C45: FEMENINO | D45: A34 | E45: ALBA | F45: PINO SOTILLOS | G45: VILLANUEVA DE LA TORRE | H45: 4 | I45: 8 | R45: =H45+I45 -> 12 | S45: 4
B46: PREBENJAMIN OPEN | C46: FEMENINO | D46: A31 | E46: EVA | F46: FERNÁNDEZ OLEA | G46: CLUB PATÍN DE ORO | H46: 4 | I46: 5 | R46: =H46+I46 -> 9 | S46: 5
B47: PREBENJAMIN OPEN | C47: FEMENINO | D47: 1 | E47: SARA | F47: FERNANDEZ PADILLA | G47: CLUB PATIN DE ORO | H47: 1 | I47: 7 | R47: =H47+I47 -> 8 | S47: 6
...

Sheet ARGANDA

Sheet ALUCHE

Sheet GENERAL
C2: I LIGA CENTRO
C3: CLASIFICACIÓN GENERAL
C4: 23 de febrero de 2019
B8: Categoría | C8: Sexo | D8: Nombre | E8: Apellidos | F8: Club | G8: RIVAS | H8: BURGUILLOS | I8: PARLA | J8: ARGANDA | K8: ALUCHE | L8: TOTAL
A9: 1 | B9: MINI OPEN | C9: FEMENINO | D9: MAIALEN | E9: BENITO UGARTE | F9: CDP CONSIGUELOTOLEDO | G9: =SUM(RIVAS!S9) -> 17 | H9: 20 | I9: 16 | L9: =SUM(G9:K9) -> 53
A10: 2 | B10: MINI OPEN | C10: FEMENINO | D10: CLAUDIA | E10: SENDIN PETRONILA | F10: CLUB PATÍN PARLA | G10: =SUM(RIVAS!S13) -> 13 | H10: 16 | I10: 15 | L10: =SUM(G10:K10) -> 44
A11: 3 | B11: MINI OPEN | C11: FEMENINO | D11: AROA | E11: ORTIZ GARCÍA | F11: CLUB PATÍN PARLA | G11: =SUM(RIVAS!S12) -> 14 | H11: 12 | I11: 11 | L11: =SUM(G11:K11) -> 37
A12: 4 | B12: MINI OPEN | C12: FEMENINO | D12: JIMENA | E12: PASCUA RODRÍGUEZ | F12: CLUB PATÍN PARLA | G12: =SUM(RIVAS!S10) -> 16 | I12: 19 | L12: =SUM(G12:K12) -> 35
A13: 5 | B13: MINI OPEN | C13: FEMENINO | D13: VIRGINIA | E13: BARRAGAN MENDEZ | F13: CLUB PATÍN PARLA | G13: =SUM(RIVAS!S11) -> 15 | I13: 15 | L13: =SUM(G13:K13) -> 30
A14: 6 | B14: MINI OPEN | C14: FEMENINO | D14: CARLA | E14: GARCÍA ÁLVAREZ | F14: CLUB PATÍN PARLA | G14: =SUM(RIVAS!S14) -> 11 | H14: 17 | L14: =SUM(G14:K14) -> 28
A15: 7 | B15: MINI OPEN | C15: FEMENINO | D15: OLIVIA | E15: SIMON MONTERO | F15: CLUB PATÍN PARLA | G15: =SUM(RIVAS!S15) -> 7 | H15: 9 | I15: 9 | L15: =SUM(G15:K15) -> 25
A16: 8 | B16: MINI OPEN | C16: FEMENINO | D16: LUCÍA | E16: ALMODÓVAR IZQUIERDO | F16: CLUB PATÍN PARLA | G16: =SUM(RIVAS!S21) -> 2 | H16: 6 | I16: 8 | L16: =SUM(G16:K16) -> 16
A17: 9 | B17: MINI OPEN | C17: FEMENINO | D17: MARIA | E17: SERENA CRESPO | F17: CLUB PATÍN PARLA | H17: 5 | I17: 7 | L17: =SUM(G17:K17) -> 12
A18: 10 | B18: MINI OPEN | C18: FEMENINO | D18: LEIRE | E18: MÉNDEZ SUAREZ | F18: CLUB PATÍN PARLA | G18: =SUM(RIVAS!S24) -> 2 | H18: 6 | I18: 2 | L18: =SUM(G18:K18) -> 10
A19: 11 | B19: MINI OPEN | C19: FEMENINO | D19: MATILDE | E19: GÓMEZ NIETO | F19: CLUB PATÍN DE ORO | G19: =SUM(RIVAS!S16) -> 9 | L19: =SUM(G19:K19) -> 9
A20: 12 | B20: MINI OPEN | C20: FEMENINO | D20: NEREA | E20: ESCUDERO ASENSIO | F20: CDP CONSIGUELOTOLEDO | H20: 7 | L20: =SUM(G20:K20) -> 7
A21: 13 | B21: MINI OPEN | C21: FEMENINO | D21: AYLA | E21: MACIAS ROJO | F21: CLUB PATÍN PARLA | G21: =SUM(RIVAS!S28) -> 0 | H21: 4 | I21: 2 | L21: =SUM(G21:K21) -> 6
A22: 13 | B22: MINI OPEN | C22: FEMENINO | D22: MARIA | E22: MARTIN GARCIA | F22: CLUB PATÍN PARLA | H22: 4 | I22: 2 | L22: =SUM(G22:K22) -> 6
A23: 13 | B23: MINI OPEN | C23: FEMENINO | D23: CARLA | E23: PALOMINO CONTRERAS | F23: CLUB PATIN PARLA | I23: 6 | L23: =SUM(G23:K23) -> 6
A24: 14 | B24: MINI OPEN | C24: FEMENINO | D24: NEREA | E24: RODRIGUEZ RUBIO | F24: CLUB PATÍN PARLA | G24: =SUM(RIVAS!S17) -> 4 | L24: =SUM(G24:K24) -> 4
A25: 14 | B25: MINI OPEN | C25: FEMENINO | D25: LUCIA | E25: ARROYO REDONDO | F25: CLUB PATÍN DE ORO | G25: =SUM(RIVAS!S18) -> 4 | L25: =SUM(G25:K25) -> 4
A26: 14 | B26: MINI OPEN | C26: FEMENINO | D26: ARIADNA | E26: RIVERA NEIRA | F26: CLUB PATÍN DE ORO | G26: =SUM(RIVAS!S19) -> 2 | I26: 2 | L26: =SUM(G26:K26) -> 4
A27: 14 | B27: MINI OPEN | C27: FEMENINO | D27: SOFÍA | E27: FRANCISCO BARBEITOS | F27: CLUB PATÍN PARLA | G27: =SUM(RIVAS!S23) -> 2 | I27: 2 | L27: =SUM(G27:K27) -> 4
A28: 14 | B28: MINI OPEN | C28: FEMENINO | D28: CARLA | E28: ESTEBAN SERRANO | F28: CLUB PATIN PARLA | I28: 4 | L28: =SUM(G28:K28) -> 4
A29: 15 | B29: MINI OPEN | C29: FEMENINO | D29: DANIELA | E29: SIENES SIENES | F29: CLUB PATÍN PARLA | G29: =SUM(RIVAS!S25) -> 2 | H29: 1 | L29: =SUM(G29:K29) -> 3
A30: 15 | B30: MINI OPEN | C30: FEMENINO | D30: CLAUDIA | E30: PASTOR QUISADA | F30: CLUB PATÍN PARLA | G30: =SUM(RIVAS!S27) -> 1 | I30: 2 | L30: =SUM(G30:K30) -> 3
A31: 16 | B31: MINI OPEN | C31: FEMENINO | D31: EMMA | E31: GOMEZ CASADO | F31: CLUB PATÍN DE ORO | G31: =SUM(RIVAS!S20) -> 2 | L31: =SUM(G31:K31) -> 2
A32: 16 | B32: MINI OPEN | C32: FEMENINO | D32: EMMA | E32: AMBROS NAVARRO | F32: CLUB PATÍN PARLA | G32: =SUM(RIVAS!S22) -> 2 | L32: =SUM(G32:K32) -> 2
A33: 16 | B33: MINI OPEN | C33: FEMENINO | D33: SILVIA | E33: DIEZ MUÑOZ | F33: PATÍN VELOCIDAD RIVAS | G33: =SUM(RIVAS!S26) -> 2 | L33: =SUM(G33:K33) -> 2
A34: 17 | B34: MINI OPEN | C34: FEMENINO | D34: SOPHIE | E34: ARELLANO GONZALEZ | F34: INDEPENDIENTE | H34: 1 | L34: =SUM(G34:K34) -> 1
B36: Categoría | C36: Sexo | D36: Nombre | E36: Apellidos | F36: Club | G36: RIVAS | H36: BURGUILLOS | I36: PARLA | J36: ARGANDA | K36: ALUCHE | L36: TOTAL
A37: 1 | B37: MINI OPEN | C37: MASCULINO | D37: VÍCTOR | E37: GALVÁN GARCÍA | F37: CDP CONSIGUELOTOLEDO | G37: 16 | H37: 20 | I37: 16 | L37: =SUM(G37:K37) -> 52
A38: 2 | B38: MINI OPEN | C38: MASCULINO | D38: NICOLÁS | E38: GARCÍA AMAYA | F38: CLUB PATÍN PARLA | G38: 17 | H38: 9 | I38: 19 | L38: =SUM(G38:K38) -> 45
A39: 3 | B39: MINI OPEN | C39: MASCULINO | D39: DAVID | E39: HERNANDEZ DIAZ | F39: CMP ARGANDA DEL REY | H39: 16 | I39: 15 | L39: =SUM(G39:K39) -> 31
A40: 4 | B40: MINI OPEN | C40: MASCULINO | D40: MARIO | E40: CANILLAS DIAZ | F40: CLUB PATÍN PARLA | G40: 18 | L40: =SUM(G40:K40) -> 18
A41: 4 | B41: MINI OPEN | C41: MASCULINO | D41: DANIEL | E41: VARELA GARCÍA | F41: CLUB PATÍN PARLA | I41: 18 | L41: =SUM(G41:K41) -> 18
A42: 5 | B42: MINI OPEN | C42: MASCULINO | D42: MARIO | E42: CALZADILLA CANO | F42: CLUB PATÍN DE ORO | G42: 17 | L42: =SUM(G42:K42) -> 17
A43: 6 | B43: MINI OPEN | C43: MASCULINO | D43: LEO | E43: RODRÍGUEZ ÁLVAREZ | F43: CLUB PATÍN DE ORO | G43: 12 | L43: =SUM(G43:K43) -> 12
A44: 7 | B44: MINI OPEN | C44: MASCULINO | D44: JAIME | E44: MONTE LEAL | F44: CLUB PATÍN PARLA | I44: 11 | L44: =SUM(G44:K44) -> 11
A45: 7 | B45: MINI OPEN | C45: MASCULINO | D45: AITOR | E45: MUÑOZ MIROSHNICHENKO | F45: CLUB PATÍN DE ORO | I45: 11 | L45: =SUM(G45:K45) -> 11
...
